BEGIN:VCALENDAR
VERSION:2.0
PRODID:-// - ECPv6.2.8.1//NONSGML v1.0//EN
CALSCALE:GREGORIAN
METHOD:PUBLISH
X-ORIGINAL-URL:https://oise-somme.1000pattes.guide
X-WR-CALDESC:évènements pour 
REFRESH-INTERVAL;VALUE=DURATION:PT1H
X-Robots-Tag:noindex
X-PUBLISHED-TTL:PT1H
BEGIN:VTIMEZONE
TZID:Europe/Paris
BEGIN:DAYLIGHT
TZOFFSETFROM:+0100
TZOFFSETTO:+0200
TZNAME:CEST
DTSTART:20250330T010000
END:DAYLIGHT
BEGIN:STANDARD
TZOFFSETFROM:+0200
TZOFFSETTO:+0100
TZNAME:CET
DTSTART:20251026T010000
END:STANDARD
END:VTIMEZONE
BEGIN:VEVENT
DTSTART;TZID=Europe/Paris:20251004T000000
DTEND;TZID=Europe/Paris:20251004T235900
DTSTAMP:20260423T004252
CREATED:20240213T091934Z
LAST-MODIFIED:20250914T200421Z
UID:10000131-1759536000-1759622340@oise-somme.1000pattes.guide
SUMMARY:Bike and run de Fort Mahon Plage (80)
DESCRIPTION:15h : B&R-JE [6-9][8-11][10-13][12-19] ; \n16h : B&R-S \nInscription : 06 79 66 77 04 \nhenrmar@hotmail.fr
URL:https://oise-somme.1000pattes.guide/event/bike-run-de-fort-mahon-fort-mahon-plage-80/
LOCATION:BIKE & RUN DE FORT MAHON\, Fort-Mahon-Plage\, France
CATEGORIES:bike and run
END:VEVENT
BEGIN:VEVENT
DTSTART;TZID=Europe/Paris:20251004T080000
DTEND;TZID=Europe/Paris:20251004T170000
DTSTAMP:20260423T004252
CREATED:20250303T092710Z
LAST-MODIFIED:20250303T092710Z
UID:10000223-1759564800-1759597200@oise-somme.1000pattes.guide
SUMMARY:Corri-trail\, Airaines (80)
DESCRIPTION:Corri-trail\, Airaines (80) \nRendez-vous sur place dès 13 h 30 pour les courses enfants. \nPuis départ des trails à 14 h (15\,5 et 22 km). \nCourse nature de 6 km à 14 h 10. \nRenseignements sur la page Facebook Corri-trail Airaines \nInscriptions pour les trails sur Klikego. \nInscriptions pour la course nature sur place.
URL:https://oise-somme.1000pattes.guide/event/corri-trail-airaines-80/
LOCATION:Airaines
CATEGORIES:Trail ou course nature
END:VEVENT
BEGIN:VEVENT
DTSTART;TZID=Europe/Paris:20251004T080000
DTEND;TZID=Europe/Paris:20251004T170000
DTSTAMP:20260423T004252
CREATED:20250303T093046Z
LAST-MODIFIED:20250303T093046Z
UID:10000224-1759564800-1759597200@oise-somme.1000pattes.guide
SUMMARY:La Matelote\, Saint-Valery-sur-Somme (80)
DESCRIPTION:La Matelote\, Saint-Valery-sur-Somme (80)\nDépart à 15 h\, face à la mairie de Saint-Valery-sur-Somme pour un trail de 14 km ou une marche de 7 km (la petite matelote). \nRenseignements sur la page Facebook La Matelote \nInscriptions via Adeorun
URL:https://oise-somme.1000pattes.guide/event/la-matelote-saint-valery-sur-somme-80/
LOCATION:Saint-Valery-sur-Somme
CATEGORIES:Trail ou course nature
END:VEVENT
BEGIN:VEVENT
DTSTART;TZID=Europe/Paris:20251004T080000
DTEND;TZID=Europe/Paris:20251004T170000
DTSTAMP:20260423T004252
CREATED:20250303T093154Z
LAST-MODIFIED:20250303T093154Z
UID:10000225-1759564800-1759597200@oise-somme.1000pattes.guide
SUMMARY:Course rose\, Margny-les-Compiègne (60)
DESCRIPTION:Course rose\, Margny-les-Compiègne (60)\nCourse enfants/parents avec La Team Course à Pied 60\, stade Robert-Dubois. \nDans le cadre d’octobre rose. Départs à 14 h. \nRenseignements sur place.
URL:https://oise-somme.1000pattes.guide/event/course-rose-margny-les-compiegne-60/
LOCATION:Margny-les-Compiegne
CATEGORIES:Course solidaire,Course sur route
END:VEVENT
BEGIN:VEVENT
DTSTART;TZID=Europe/Paris:20251004T160000
DTEND;TZID=Europe/Paris:20251004T160000
DTSTAMP:20260423T004252
CREATED:20250822T083244Z
LAST-MODIFIED:20250822T083545Z
UID:10000265-1759593600-1759593600@oise-somme.1000pattes.guide
SUMMARY:Bike and run - Fort-Mahon (80)
DESCRIPTION:16h : Course adultes : 13 km \n15h : courses enfants : 6-11 ans : 2 km ; 10-18 ans : 4 km \nRendez-vous sur l’esplanade de Fort-Mahon. \nOrganiser le Triathlon Club du Montreuillois et la mairie de Fort-Mahon. \nInscription sur chronopale : https://www.chronopale.fr/index.php/191-bike-and-run-de-fort-mahon-plage/2024-09-28-15-00 \n 
URL:https://oise-somme.1000pattes.guide/event/bike-and-run-fort-mahon-80/
LOCATION:Bike and run de Fort-Mahon\, Fort-Mahon\, France
CATEGORIES:bike and run
END:VEVENT
END:VCALENDAR