BEGIN:VCALENDAR
VERSION:2.0
PRODID:-// - ECPv6.2.8.1//NONSGML v1.0//EN
CALSCALE:GREGORIAN
METHOD:PUBLISH
X-ORIGINAL-URL:https://oise-somme.1000pattes.guide
X-WR-CALDESC:évènements pour 
REFRESH-INTERVAL;VALUE=DURATION:PT1H
X-Robots-Tag:noindex
X-PUBLISHED-TTL:PT1H
BEGIN:VTIMEZONE
TZID:Europe/Paris
BEGIN:DAYLIGHT
TZOFFSETFROM:+0100
TZOFFSETTO:+0200
TZNAME:CEST
DTSTART:20250330T010000
END:DAYLIGHT
BEGIN:STANDARD
TZOFFSETFROM:+0200
TZOFFSETTO:+0100
TZNAME:CET
DTSTART:20251026T010000
END:STANDARD
END:VTIMEZONE
BEGIN:VEVENT
DTSTART;TZID=Europe/Paris:20251011T080000
DTEND;TZID=Europe/Paris:20251011T170000
DTSTAMP:20260423T003256
CREATED:20250303T093759Z
LAST-MODIFIED:20250303T093759Z
UID:10000228-1760169600-1760202000@oise-somme.1000pattes.guide
SUMMARY:La Camblysienne\, Chambly (60)
DESCRIPTION:La Camblysienne\, Chambly (60)\nMarche et course de 4 et 8 km le long d’un parcours nature non chronométrées\, échauffement en musique\, parcours animés\, village santé / prévention. \nDépart à 14 h du parc Chantemesse jusqu’au stade de football (ou jusqu’à la mairie de Belle Eglise). \nRenseignements : www.lacamblysienne.fr
URL:https://oise-somme.1000pattes.guide/event/la-camblysienne-chambly-60/
LOCATION:Chambly
CATEGORIES:Trail ou course nature
ATTACH;FMTTYPE=image/jpeg:https://oise-somme.1000pattes.guide/wp-content/uploads/sites/4/2025/03/cab0baa3f4876feb0baa3f487c2c0bv_-scaled.jpg
END:VEVENT
BEGIN:VEVENT
DTSTART;TZID=Europe/Paris:20251011T133000
DTEND;TZID=Europe/Paris:20251011T170000
DTSTAMP:20260423T003256
CREATED:20250910T053041Z
LAST-MODIFIED:20250910T053041Z
UID:10000267-1760189400-1760202000@oise-somme.1000pattes.guide
SUMMARY:Octobre rose à Avrechy (60)
DESCRIPTION:Dans le cadre d’octobre rose\, les communes d’Avrechy\, Airion et Fournival et l’association “Courir sur Saint-Remy” organisent une journée sportive avec marches de 5 et 10 km ou trail de 11 et 18 km. \nDons libres au départ. \nRendez-vous à 13h45 devant la mairie d’Avrechy.
URL:https://oise-somme.1000pattes.guide/event/octobre-rose-avrechy/
LOCATION:Avrechy
END:VEVENT
END:VCALENDAR