BEGIN:VCALENDAR
VERSION:2.0
PRODID:-// - ECPv6.2.8.1//NONSGML v1.0//EN
CALSCALE:GREGORIAN
METHOD:PUBLISH
X-ORIGINAL-URL:https://oise-somme.1000pattes.guide
X-WR-CALDESC:évènements pour 
REFRESH-INTERVAL;VALUE=DURATION:PT1H
X-Robots-Tag:noindex
X-PUBLISHED-TTL:PT1H
BEGIN:VTIMEZONE
TZID:Europe/Paris
BEGIN:DAYLIGHT
TZOFFSETFROM:+0100
TZOFFSETTO:+0200
TZNAME:CEST
DTSTART:20250330T010000
END:DAYLIGHT
BEGIN:STANDARD
TZOFFSETFROM:+0200
TZOFFSETTO:+0100
TZNAME:CET
DTSTART:20251026T010000
END:STANDARD
END:VTIMEZONE
BEGIN:VEVENT
DTSTART;TZID=Europe/Paris:20251031T183000
DTEND;TZID=Europe/Paris:20251031T183000
DTSTAMP:20260422T230544
CREATED:20250303T094424Z
LAST-MODIFIED:20250303T094424Z
UID:10000232-1761935400-1761935400@oise-somme.1000pattes.guide
SUMMARY:La corrid’halloween de Montdidier (80)
DESCRIPTION:La corrid’halloween de Montdidier (80)\nCourses enfants à partir de 18 h 45.\nCourse fluo de 5 km\, départ à 19 h 30. \nRenseignements : johanna.debloos@gmail.com \nInscriptions à la maison des jeunes de Montdidier.
URL:https://oise-somme.1000pattes.guide/event/la-corridhalloween-de-montdidier-80/
LOCATION:Montdidier
CATEGORIES:Course solidaire,Course sur route
END:VEVENT
END:VCALENDAR