BEGIN:VCALENDAR
VERSION:2.0
PRODID:-// - ECPv6.2.8.1//NONSGML v1.0//EN
CALSCALE:GREGORIAN
METHOD:PUBLISH
X-ORIGINAL-URL:https://oise-somme.1000pattes.guide
X-WR-CALDESC:évènements pour 
REFRESH-INTERVAL;VALUE=DURATION:PT1H
X-Robots-Tag:noindex
X-PUBLISHED-TTL:PT1H
BEGIN:VTIMEZONE
TZID:Europe/Paris
BEGIN:DAYLIGHT
TZOFFSETFROM:+0100
TZOFFSETTO:+0200
TZNAME:CEST
DTSTART:20250330T010000
END:DAYLIGHT
BEGIN:STANDARD
TZOFFSETFROM:+0200
TZOFFSETTO:+0100
TZNAME:CET
DTSTART:20251026T010000
END:STANDARD
END:VTIMEZONE
BEGIN:VEVENT
DTSTART;TZID=Europe/Paris:20251111T133000
DTEND;TZID=Europe/Paris:20251111T170000
DTSTAMP:20260422T230630
CREATED:20250303T095136Z
LAST-MODIFIED:20250303T095136Z
UID:10000239-1762867800-1762880400@oise-somme.1000pattes.guide
SUMMARY:Trail des Vidâmes\, Picquigny (80)
DESCRIPTION:Trail des Vidâmes\, Picquigny (80)\nOrganisé par le Picquigny Running club\, le trail des vidâmes partira à 13 h 30 pour 23 km à partir de la rue du marais (au niveau du camping municipal). \nL’arrivée se fait à la salle municipale du groupe scolaire. \nRenseignements traildesvidames.free.fr/ \nInscriptions sur Klikego.
URL:https://oise-somme.1000pattes.guide/event/trail-des-vidames-picquigny-80/
CATEGORIES:Trail ou course nature
END:VEVENT
END:VCALENDAR