BEGIN:VCALENDAR
VERSION:2.0
PRODID:-// - ECPv6.2.8.1//NONSGML v1.0//EN
CALSCALE:GREGORIAN
METHOD:PUBLISH
X-ORIGINAL-URL:https://oise-somme.1000pattes.guide
X-WR-CALDESC:évènements pour 
REFRESH-INTERVAL;VALUE=DURATION:PT1H
X-Robots-Tag:noindex
X-PUBLISHED-TTL:PT1H
BEGIN:VTIMEZONE
TZID:Europe/Paris
BEGIN:DAYLIGHT
TZOFFSETFROM:+0100
TZOFFSETTO:+0200
TZNAME:CEST
DTSTART:20250330T010000
END:DAYLIGHT
BEGIN:STANDARD
TZOFFSETFROM:+0200
TZOFFSETTO:+0100
TZNAME:CET
DTSTART:20251026T010000
END:STANDARD
END:VTIMEZONE
BEGIN:VEVENT
DTSTART;VALUE=DATE:20251116
DTEND;VALUE=DATE:20251117
DTSTAMP:20260422T230736
CREATED:20240213T102637Z
LAST-MODIFIED:20250130T140326Z
UID:10000136-1763251200-1763337599@oise-somme.1000pattes.guide
SUMMARY:BIKE & RUN DE BEAUVAIS - Beauvais (60)
DESCRIPTION:B&R-JE [6-9][8-11][10-13] ; \nB&R-XS-CPRA ; B&R-S-CPRA \nInscription : 06 07 43 50 69 \nagnes.mahey@wanadoo.fr
URL:https://oise-somme.1000pattes.guide/event/bike-run-de-beauvais-beauvais-60/
LOCATION:BIKE & RUN DE BEAUVAIS\, Beauvais\, France
CATEGORIES:Triathlon
END:VEVENT
BEGIN:VEVENT
DTSTART;TZID=Europe/Paris:20251116T080000
DTEND;TZID=Europe/Paris:20251116T170000
DTSTAMP:20260422T230736
CREATED:20250303T095224Z
LAST-MODIFIED:20250303T095224Z
UID:10000240-1763280000-1763312400@oise-somme.1000pattes.guide
SUMMARY:Cross du Pont d’Allemagne\, Eppeville (80)
DESCRIPTION:Cross du Pont d’Allemagne\, Eppeville (80)\nRendez-vous sur le site du Pont d’Allemagne (le long de la RD930 entre Hombleux et Eppeville) à partir de 13h pour les inscriptions. \nMinis boucles enfants à partir de 14h. Petites boucles (1km) jeunes à partir de 14h20 et grandes boucles (2\,5km) adultes à 15h. \nPointes conseillées. \nInscriptions sur place ou sur klikego.
URL:https://oise-somme.1000pattes.guide/event/cross-du-pont-dallemagne-eppeville-80/
LOCATION:Eppeville
END:VEVENT
BEGIN:VEVENT
DTSTART;TZID=Europe/Paris:20251116T080000
DTEND;TZID=Europe/Paris:20251116T170000
DTSTAMP:20260422T230736
CREATED:20250303T095330Z
LAST-MODIFIED:20250303T095330Z
UID:10000241-1763280000-1763312400@oise-somme.1000pattes.guide
SUMMARY:La Capétienne\, Senlis (60)
DESCRIPTION:La Capétienne\, Senlis (60)\nRendez-vous à 9h45 pour la marche nordique de 21\,7km\, à 10h pour une marche de 13km. \nAu départ du gymnase Hugues Capet\, avenue de Reims à Senlis. \nRenseignements : https://www.senlismarchenordique.com/la-capetienne/ \nInscriptions via Adeorun
URL:https://oise-somme.1000pattes.guide/event/la-capetienne-senlis-60-2/
LOCATION:Senlis
CATEGORIES:Marche
END:VEVENT
BEGIN:VEVENT
DTSTART;TZID=Europe/Paris:20251116T080000
DTEND;TZID=Europe/Paris:20251116T170000
DTSTAMP:20260422T230736
CREATED:20250303T095442Z
LAST-MODIFIED:20250303T095442Z
UID:10000242-1763280000-1763312400@oise-somme.1000pattes.guide
SUMMARY:Corrida de Corbie (80)
DESCRIPTION:Corrida de Corbie (80) \nVingtième corrida de Corbie \nAnimations enfants à partir de 13 h 40. \nCourse populaire femme (5 km plus de 25 min et hommes de plus de 21 min\, départ à 14 h). \nCourse AS (femme moins de 25 min et hommes moins de 21 min\, départ à 15 h). \n10 km\, départ à 15 h 30. \nRenseignements corridacorbie@gmail.com \nInscriptions sur Klikego.
URL:https://oise-somme.1000pattes.guide/event/corrida-de-corbie-80/
LOCATION:Corbie
CATEGORIES:Course sur route
END:VEVENT
END:VCALENDAR