BEGIN:VCALENDAR
VERSION:2.0
PRODID:-// - ECPv6.2.8.1//NONSGML v1.0//EN
CALSCALE:GREGORIAN
METHOD:PUBLISH
X-ORIGINAL-URL:https://oise-somme.1000pattes.guide
X-WR-CALDESC:évènements pour 
REFRESH-INTERVAL;VALUE=DURATION:PT1H
X-Robots-Tag:noindex
X-PUBLISHED-TTL:PT1H
BEGIN:VTIMEZONE
TZID:Europe/Paris
BEGIN:DAYLIGHT
TZOFFSETFROM:+0100
TZOFFSETTO:+0200
TZNAME:CEST
DTSTART:20250330T010000
END:DAYLIGHT
BEGIN:STANDARD
TZOFFSETFROM:+0200
TZOFFSETTO:+0100
TZNAME:CET
DTSTART:20251026T010000
END:STANDARD
END:VTIMEZONE
BEGIN:VEVENT
DTSTART;TZID=Europe/Paris:20251123T080000
DTEND;TZID=Europe/Paris:20251123T170000
DTSTAMP:20260422T230544
CREATED:20250303T095535Z
LAST-MODIFIED:20250303T095535Z
UID:10000243-1763884800-1763917200@oise-somme.1000pattes.guide
SUMMARY:Trail des lutins\, Bussus-Bussuel (80)
DESCRIPTION:Trail des lutins\, Bussus-Bussuel (80)\nAu coeur du village\, marche des lutins (départ à 14h)\, mini trail des lutins (1\,7 km\, départ à 15 h 30)\, petit trail des lutins (8\,5 km\, départ à 17 h) et grand trail des lutins (12 km\, départ à 18 h). \nCourse au profit du Téléthon. \nBuvette et toilettes sur place. \nMassage par des étudiants kiné à l’arrivée. \nRenseignements et inscriptions : leszhironloins.fr \nInscriptions possibles sur place pour la marche.
URL:https://oise-somme.1000pattes.guide/event/trail-des-lutins-bussus-bussuel-80/
LOCATION:bussu bussel
CATEGORIES:Trail ou course nature
END:VEVENT
BEGIN:VEVENT
DTSTART;TZID=Europe/Paris:20251123T080000
DTEND;TZID=Europe/Paris:20251123T170000
DTSTAMP:20260422T230544
CREATED:20250303T095651Z
LAST-MODIFIED:20250303T095651Z
UID:10000244-1763884800-1763917200@oise-somme.1000pattes.guide
SUMMARY:La Pont’Oise\, Pont-Sainte-Maxence (60)
DESCRIPTION:La Pont’Oise\, Pont-Sainte-Maxence (60)\nLe Trail La Pont’ Oise est organisé par la Ville de Pont-Sainte-Maxence et aura lieu en semi-nocturne. \nDéparts et arrivée au gymnase de la Salamandre\, rue du stade. \n16 h\, départ du 25 km. 16 h 15\, départ de la randonnée de 10 km. 16 h 30\, courses enfants (départ rue Charles Frugaux). 17 h\, départ du 15 km et 17 h 15\, départ du 8 km. \nLampe frontale obligatoire. \nRenseignements :https://pontsaintemaxence.fr/ \nInscriptions via Adeorun
URL:https://oise-somme.1000pattes.guide/event/la-pontoise-pont-sainte-maxence-60/
LOCATION:Pont-Sainte-Maxence
END:VEVENT
END:VCALENDAR