BEGIN:VCALENDAR
VERSION:2.0
PRODID:-// - ECPv6.2.8.1//NONSGML v1.0//EN
CALSCALE:GREGORIAN
METHOD:PUBLISH
X-ORIGINAL-URL:https://oise-somme.1000pattes.guide
X-WR-CALDESC:évènements pour 
REFRESH-INTERVAL;VALUE=DURATION:PT1H
X-Robots-Tag:noindex
X-PUBLISHED-TTL:PT1H
BEGIN:VTIMEZONE
TZID:Europe/Paris
BEGIN:DAYLIGHT
TZOFFSETFROM:+0100
TZOFFSETTO:+0200
TZNAME:CEST
DTSTART:20250330T010000
END:DAYLIGHT
BEGIN:STANDARD
TZOFFSETFROM:+0200
TZOFFSETTO:+0100
TZNAME:CET
DTSTART:20251026T010000
END:STANDARD
END:VTIMEZONE
BEGIN:VEVENT
DTSTART;TZID=Europe/Paris:20251205T080000
DTEND;TZID=Europe/Paris:20251205T170000
DTSTAMP:20260422T212758
CREATED:20250303T095927Z
LAST-MODIFIED:20250303T095927Z
UID:10000246-1764921600-1764954000@oise-somme.1000pattes.guide
SUMMARY:Ekiden de Villers-Bretonneux\, Villers-Bretonneux (80)
DESCRIPTION:Ekiden de Villers-Bretonneux\, Villers-Bretonneux (80)\nEkiden dans le centre de Villers-Bretonneux dans le cadre du téléthon. \n42km en relais (de six personnes maximum). Des boucles de 1km autour du marché couvert.\nRenseignements : groupe Facebook « Courir à Villers-Bretonneux » \nInscriptions sur place.
URL:https://oise-somme.1000pattes.guide/event/ekiden-de-villers-bretonneux/
LOCATION:villers-bretonneux
CATEGORIES:Course solidaire,Course sur route
END:VEVENT
END:VCALENDAR