BEGIN:VCALENDAR
VERSION:2.0
PRODID:-// - ECPv6.2.8.1//NONSGML v1.0//EN
CALSCALE:GREGORIAN
METHOD:PUBLISH
X-ORIGINAL-URL:https://oise-somme.1000pattes.guide
X-WR-CALDESC:évènements pour 
REFRESH-INTERVAL;VALUE=DURATION:PT1H
X-Robots-Tag:noindex
X-PUBLISHED-TTL:PT1H
BEGIN:VTIMEZONE
TZID:Europe/Paris
BEGIN:DAYLIGHT
TZOFFSETFROM:+0100
TZOFFSETTO:+0200
TZNAME:CEST
DTSTART:20250330T010000
END:DAYLIGHT
BEGIN:STANDARD
TZOFFSETFROM:+0200
TZOFFSETTO:+0100
TZNAME:CET
DTSTART:20251026T010000
END:STANDARD
END:VTIMEZONE
BEGIN:VEVENT
DTSTART;TZID=Europe/Paris:20251206T173000
DTEND;TZID=Europe/Paris:20251206T173000
DTSTAMP:20260422T212758
CREATED:20250303T100053Z
LAST-MODIFIED:20250303T100053Z
UID:10000247-1765042200-1765042200@oise-somme.1000pattes.guide
SUMMARY:Trail de la Médiévale\, Estrées-les-Crécy (80)
DESCRIPTION:Trail de la Médiévale\, Estrées-les-Crécy (80)\nTrail nocturne de 9\,8 et 15km. Départs et arrivée devant la mairie d’Estrées-les-Crécy. \nDéparts à 17h30 et 17h45. \nMarche nocturne de 8km à 17h30. \n1 euro par dossard reversé à l’association « tous ensemble pour l’avenir de Chloé. » \nLampe frontale obligatoire \nRenseignements : http://la.medievale.over-blog.com/ \nInscriptions sur Adeorun.
URL:https://oise-somme.1000pattes.guide/event/trail-de-la-medievale-estrees-les-crecy-80/
LOCATION:Estrees les Crecy
CATEGORIES:Course solidaire,Course sur route
END:VEVENT
END:VCALENDAR