BEGIN:VCALENDAR
VERSION:2.0
PRODID:-// - ECPv6.2.8.1//NONSGML v1.0//EN
CALSCALE:GREGORIAN
METHOD:PUBLISH
X-ORIGINAL-URL:https://oise-somme.1000pattes.guide
X-WR-CALDESC:évènements pour 
REFRESH-INTERVAL;VALUE=DURATION:PT1H
X-Robots-Tag:noindex
X-PUBLISHED-TTL:PT1H
BEGIN:VTIMEZONE
TZID:Europe/Paris
BEGIN:DAYLIGHT
TZOFFSETFROM:+0100
TZOFFSETTO:+0200
TZNAME:CEST
DTSTART:20260329T010000
END:DAYLIGHT
BEGIN:STANDARD
TZOFFSETFROM:+0200
TZOFFSETTO:+0100
TZNAME:CET
DTSTART:20261025T010000
END:STANDARD
END:VTIMEZONE
BEGIN:VEVENT
DTSTART;TZID=Europe/Paris:20260207T080000
DTEND;TZID=Europe/Paris:20260207T170000
DTSTAMP:20260422T182305
CREATED:20260125T135357Z
LAST-MODIFIED:20260125T135357Z
UID:10000276-1770451200-1770483600@oise-somme.1000pattes.guide
SUMMARY:ClermonTrail de Clermont (60)
DESCRIPTION:La 4ème édition du ClermonTrail partira de la salle André Pommery : marche de 8 km 175 D+\, départ à 16h\, 10 € – course de 8 km 210 D+\, départ à 18h\, 12 € – course de 13 km 300 D+\, départ à 19h\, 16 €. Inscriptions sur adeorun.com.
URL:https://oise-somme.1000pattes.guide/event/clermontrail-de-clermont-60/
LOCATION:Clermont’trail\, Clermont\, 60600\, France
END:VEVENT
BEGIN:VEVENT
DTSTART;TZID=Europe/Paris:20260207T080000
DTEND;TZID=Europe/Paris:20260207T170000
DTSTAMP:20260422T182305
CREATED:20260125T135455Z
LAST-MODIFIED:20260125T135455Z
UID:10000277-1770451200-1770483600@oise-somme.1000pattes.guide
SUMMARY:Foulées méaultoises de Méaulte (80)
DESCRIPTION:Course de 5 km et 10 km dans les rues de la commune\, label Bronze.Courses qualificatives pour les Championnats de France. Challenge départemental des courses sur route. Départ à 9h15 pour le 5 km et 10h pour le 10 km au centre ville. Renseignements au 06.46.17.50.61.
URL:https://oise-somme.1000pattes.guide/event/foulees-meaultoises-de-meaulte-80/
LOCATION:Méaulte\, Méaulte\, 80523\, France
CATEGORIES:Course sur route
END:VEVENT
BEGIN:VEVENT
DTSTART;TZID=Europe/Paris:20260207T080000
DTEND;TZID=Europe/Paris:20260207T170000
DTSTAMP:20260422T182305
CREATED:20260125T140410Z
LAST-MODIFIED:20260125T140410Z
UID:10000284-1770451200-1770483600@oise-somme.1000pattes.guide
SUMMARY:La P’tite Vadrouille à Agnetz (60)
DESCRIPTION:Au programme au départ d’Agnetz : trail découverte de 12 et 19 km – trail court de 38 km – randonnée de 12 km – courses enfants de 1\,5 à 3 km.
URL:https://oise-somme.1000pattes.guide/event/la-ptite-vadrouille-a-agnetz-60/
LOCATION:agnetz
END:VEVENT
END:VCALENDAR