BEGIN:VCALENDAR
VERSION:2.0
PRODID:-// - ECPv6.2.8.1//NONSGML v1.0//EN
CALSCALE:GREGORIAN
METHOD:PUBLISH
X-ORIGINAL-URL:https://oise-somme.1000pattes.guide
X-WR-CALDESC:évènements pour 
REFRESH-INTERVAL;VALUE=DURATION:PT1H
X-Robots-Tag:noindex
X-PUBLISHED-TTL:PT1H
BEGIN:VTIMEZONE
TZID:Europe/Paris
BEGIN:DAYLIGHT
TZOFFSETFROM:+0100
TZOFFSETTO:+0200
TZNAME:CEST
DTSTART:20260329T010000
END:DAYLIGHT
BEGIN:STANDARD
TZOFFSETFROM:+0200
TZOFFSETTO:+0100
TZNAME:CET
DTSTART:20261025T010000
END:STANDARD
END:VTIMEZONE
BEGIN:VEVENT
DTSTART;TZID=Europe/Paris:20260208T080000
DTEND;TZID=Europe/Paris:20260208T170000
DTSTAMP:20260422T182208
CREATED:20260125T135612Z
LAST-MODIFIED:20260125T135612Z
UID:10000278-1770537600-1770570000@oise-somme.1000pattes.guide
SUMMARY:Cross de Dury (02)
DESCRIPTION:Cap 21 organise le cross de Dury en collaboration avec la commune. Au programme : cross court de 4 km (départ à 10h)\, courses enfants à 10h30 et cross long de 8 km (11h). Départ à la salle des fêtes. \nInscriptions en ligne https://cap21athle.fr/ ou sur place dès 9h.
URL:https://oise-somme.1000pattes.guide/event/cross-de-dury-02/
LOCATION:Dury
CATEGORIES:Cross
END:VEVENT
BEGIN:VEVENT
DTSTART;TZID=Europe/Paris:20260208T080000
DTEND;TZID=Europe/Paris:20260208T170000
DTSTAMP:20260422T182208
CREATED:20260125T135705Z
LAST-MODIFIED:20260201T214430Z
UID:10000279-1770537600-1770570000@oise-somme.1000pattes.guide
SUMMARY:Les 8h de Charly (02)
DESCRIPTION:Rendez-vous pour la 27e édition des 8h de Charly. \nDépart à 8h\, rue de Rudenoise\, Charly pour le trophée Pierre Gau (50km). \nCourse de 10km à 10h (départ 16 place de la Mairie). \nCourses enfants à 14h. \nRenseignements : pascalou02.marechal@orange.fr
URL:https://oise-somme.1000pattes.guide/event/les-8h-de-charly-02/
LOCATION:charly
CATEGORIES:Course sur route,Marche
END:VEVENT
END:VCALENDAR