BEGIN:VCALENDAR
VERSION:2.0
PRODID:-// - ECPv6.2.8.1//NONSGML v1.0//EN
CALSCALE:GREGORIAN
METHOD:PUBLISH
X-ORIGINAL-URL:https://oise-somme.1000pattes.guide
X-WR-CALDESC:évènements pour 
REFRESH-INTERVAL;VALUE=DURATION:PT1H
X-Robots-Tag:noindex
X-PUBLISHED-TTL:PT1H
BEGIN:VTIMEZONE
TZID:Europe/Paris
BEGIN:DAYLIGHT
TZOFFSETFROM:+0100
TZOFFSETTO:+0200
TZNAME:CEST
DTSTART:20260329T010000
END:DAYLIGHT
BEGIN:STANDARD
TZOFFSETFROM:+0200
TZOFFSETTO:+0100
TZNAME:CET
DTSTART:20261025T010000
END:STANDARD
END:VTIMEZONE
BEGIN:VEVENT
DTSTART;TZID=Europe/Paris:20260222T080000
DTEND;TZID=Europe/Paris:20260222T170000
DTSTAMP:20260422T182207
CREATED:20260125T135804Z
LAST-MODIFIED:20260125T135804Z
UID:10000280-1771747200-1771779600@oise-somme.1000pattes.guide
SUMMARY:Les 10km de Morcourt (02)
DESCRIPTION:Course organisée par Cap 21 \nDépart à 9h pour une randonnée de 10km. \nCourses enfants à 12h. \n5km à 13h et 10km route à 14h30. \nInscriptions en ligne et au magasin Eudurance Shop de Saint-Quentin. \nParcours plat en 2 boucles\, départ/arrivée au même endroit\,
URL:https://oise-somme.1000pattes.guide/event/les-10km-de-morcourt-02/
LOCATION:Morcourt
CATEGORIES:Course sur route
END:VEVENT
END:VCALENDAR