BEGIN:VCALENDAR
VERSION:2.0
PRODID:-// - ECPv6.2.8.1//NONSGML v1.0//EN
CALSCALE:GREGORIAN
METHOD:PUBLISH
X-ORIGINAL-URL:https://oise-somme.1000pattes.guide
X-WR-CALDESC:évènements pour 
REFRESH-INTERVAL;VALUE=DURATION:PT1H
X-Robots-Tag:noindex
X-PUBLISHED-TTL:PT1H
BEGIN:VTIMEZONE
TZID:Europe/Paris
BEGIN:DAYLIGHT
TZOFFSETFROM:+0100
TZOFFSETTO:+0200
TZNAME:CEST
DTSTART:20260329T010000
END:DAYLIGHT
BEGIN:STANDARD
TZOFFSETFROM:+0200
TZOFFSETTO:+0100
TZNAME:CET
DTSTART:20261025T010000
END:STANDARD
END:VTIMEZONE
BEGIN:VEVENT
DTSTART;TZID=Europe/Paris:20260307T080000
DTEND;TZID=Europe/Paris:20260308T170000
DTSTAMP:20260422T164441
CREATED:20260303T083841Z
LAST-MODIFIED:20260303T083847Z
UID:10000390-1772870400-1772989200@oise-somme.1000pattes.guide
SUMMARY:La P’tite Vadrouille à Agnetz (60)
DESCRIPTION:La P’tite Vadrouille à Agnetz (60)\nAu programme : trail découverte de 12 et 19 km – trail court de 38 km – randonnée de 12 km – courses enfants de 1\,5 à 3 km.
URL:https://oise-somme.1000pattes.guide/event/la-ptite-vadrouille-a-agnetz-60-2/
LOCATION:agnetz
CATEGORIES:Trail ou course nature
END:VEVENT
BEGIN:VEVENT
DTSTART;TZID=Europe/Paris:20260308T080000
DTEND;TZID=Europe/Paris:20260308T170000
DTSTAMP:20260422T164442
CREATED:20260125T140510Z
LAST-MODIFIED:20260125T140510Z
UID:10000285-1772956800-1772989200@oise-somme.1000pattes.guide
SUMMARY:Trail des Aigles de Gouvieux (60)
DESCRIPTION:5ème édition du Trail des Aigles. Parcours  “découverte“\, avec une distance de 9 km autour des étangs de Toutevoie\, 10 €\, départ à 10h – parcours “Aventure”\, avec une distance de 16 km et 120D+ (dénivelé positif)\, qui vous fera découvrir\, outre les mêmes étangs\, le Pont des Planches\, le camp de César\, les vignes de Gouvieux et les alentours du village troglodyte\, 18 €\, départ à 9h45 – et\, nouveauté\, une petite randonnée de 9 km\, La Godvicienne\, non chronométrée\, sur le parcours « Découverte »\, 10 €\, départ à 9h. Inscription sur adeorun et renseignements sur  https://www.facebook.com/traildesaiglesgouvieux
URL:https://oise-somme.1000pattes.guide/event/trail-des-aigles-de-gouvieux-60/
LOCATION:Trail des aigles de Gouvieux\, Gouvieux\, France
CATEGORIES:Trail ou course nature
END:VEVENT
BEGIN:VEVENT
DTSTART;TZID=Europe/Paris:20260308T080000
DTEND;TZID=Europe/Paris:20260308T170000
DTSTAMP:20260422T164442
CREATED:20260125T140651Z
LAST-MODIFIED:20260125T140651Z
UID:10000286-1772956800-1772989200@oise-somme.1000pattes.guide
SUMMARY:Cottenchy Trail Aventure (80)
DESCRIPTION:– Trail Aventure : trail de 29\,2km avec 530mD+ (soit 34\,5km-effort) chronométré\, avec classement au scratch et par catégorie selon la réglementation FFA ; trail labellisé (Label Bronze) et qualificatif aux championnats de France de trail court. Départ à 9h30\, 28 €.\n– Nature Aventure : trail de 13\,2km avec 160mD+ (soit 14\,8km-effort)\, chronométré\, avec classement au scratch et par catégorie selon la réglementation FFA. Départ à 10h15\, 13 €.\n– Nordic Aventure : marche nordique compétition nature de 17\,2km avec 200mD+ (soit 19\,2km-effort) avec classement au scratch\, par catégorie et par équipe selon la réglementation FFA ; épreuve labellisée FFA (label Régional)\, inscrite au Challenge Nordique des Hautsde France 2026. Départ à 9h45\, 19 €.\n– Marche Aventure : marche avec ou sans bâtons de 11\,2km (ou 9km) avec 180mD+\, sans chronométrage\, ni classement. Départ à 10h30\, 9 €.\nInscription sur adeorun.
URL:https://oise-somme.1000pattes.guide/event/cottenchy-trail-aventure-80/
LOCATION:Cottenchy\, rue de Margny
CATEGORIES:Trail ou course nature
END:VEVENT
BEGIN:VEVENT
DTSTART;TZID=Europe/Paris:20260308T080000
DTEND;TZID=Europe/Paris:20260308T170000
DTSTAMP:20260422T164442
CREATED:20260125T140749Z
LAST-MODIFIED:20260125T140749Z
UID:10000287-1772956800-1772989200@oise-somme.1000pattes.guide
SUMMARY:Run&Bike de Saint-Crépin (60)
DESCRIPTION:Une équipe de deux personnes et un vélo que l’on se partage librement dans ce run&bike. \nDeux format : 10 ou 18 km\, départs respectifs à 10h15 et 11h. \nLe départ se tient au gymnase de Saint-Crépin. \nCourses loisirs\, enfants\, draisienne et marche le samedi. \nRestauration\, toilettes\, douches et station de lavage pour vélo sur place. \nInscriptions https://linktr.ee/senzusportexperience
URL:https://oise-somme.1000pattes.guide/event/runbike-de-saint-crepin-60/
LOCATION:Saint Crépin
CATEGORIES:bike and run
END:VEVENT
BEGIN:VEVENT
DTSTART;TZID=Europe/Paris:20260308T080000
DTEND;TZID=Europe/Paris:20260308T170000
DTSTAMP:20260422T164442
CREATED:20260125T141029Z
LAST-MODIFIED:20260125T141029Z
UID:10000289-1772956800-1772989200@oise-somme.1000pattes.guide
SUMMARY:Les foulées Liesse Marle (02)
DESCRIPTION:Rendez-vous pour les 34e foulées Liesse-Marle pour un semi-marathon ou des courses de 9 et 12 km. \nLe parcours du semi marathon partira de Liesse Notre-Dame\, ville de pèlerinage dédiée à la Vierge Noire. Il traverse la plaine Laonnoise et les sites marécageux de Saint Boétien de Pierrepont\, longe le site naturel Natura de Vesles et Caumont\, Cuirieux et arrive à la porte de la Thiérache à Marle ville d’histoire mérovingienne. Pour les moins aguerris\, inscrivez-vous sur le même parcours en relais 12 et 9 km. \nRenseignements et inscriptions : liessemarle02@gmail.com
URL:https://oise-somme.1000pattes.guide/event/les-foulees-liesse-marle-02/
LOCATION:Marle
END:VEVENT
END:VCALENDAR