BEGIN:VCALENDAR
VERSION:2.0
PRODID:-// - ECPv6.2.8.1//NONSGML v1.0//EN
CALSCALE:GREGORIAN
METHOD:PUBLISH
X-ORIGINAL-URL:https://oise-somme.1000pattes.guide
X-WR-CALDESC:évènements pour 
REFRESH-INTERVAL;VALUE=DURATION:PT1H
X-Robots-Tag:noindex
X-PUBLISHED-TTL:PT1H
BEGIN:VTIMEZONE
TZID:Europe/Paris
BEGIN:DAYLIGHT
TZOFFSETFROM:+0100
TZOFFSETTO:+0200
TZNAME:CEST
DTSTART:20260329T010000
END:DAYLIGHT
BEGIN:STANDARD
TZOFFSETFROM:+0200
TZOFFSETTO:+0100
TZNAME:CET
DTSTART:20261025T010000
END:STANDARD
END:VTIMEZONE
BEGIN:VEVENT
DTSTART;TZID=Europe/Paris:20260321T080000
DTEND;TZID=Europe/Paris:20260321T170000
DTSTAMP:20260422T164717
CREATED:20260125T141145Z
LAST-MODIFIED:20260125T141145Z
UID:10000290-1774080000-1774112400@oise-somme.1000pattes.guide
SUMMARY:Trail de la Lune Bleue à Ailly-sur-Noye (80)
DESCRIPTION:Au XVIIe siècle\, un soir de Lune Bleue\, une femme accusée à tort de sorcellerie fut brûlée vive. Avant de mourir\, elle maudit le village d’Ailly-sur-Noye qui fut alors réduit en cendres. Depuis\, son esprit hante les bois\, rappelant l’injustice subie. Saurez-vous échapper à sa malédiction ?\nLe Trail de la Lune Bleue est une course unique inspirée de l’histoire locale\, qui mêle sport\, patrimoine et ambiance nocturne envoûtante. Trails de 10km et 21 km. Inscriptions via milesrepublic.com\nEn plus\, 1€ de chaque inscription enfants sera intégralement reversé à l’association Lame de Joie\, avec la possibilité d’ajouter un don à votre convenance lors de l’inscription.
URL:https://oise-somme.1000pattes.guide/event/trail-de-la-lune-bleue-a-ailly-sur-noye-80/
LOCATION:ailly sur noye
CATEGORIES:Trail ou course nature
END:VEVENT
BEGIN:VEVENT
DTSTART;TZID=Europe/Paris:20260321T080000
DTEND;TZID=Europe/Paris:20260321T170000
DTSTAMP:20260422T164717
CREATED:20260125T141238Z
LAST-MODIFIED:20260316T143101Z
UID:10000291-1774080000-1774112400@oise-somme.1000pattes.guide
SUMMARY:Trail Jules-Verne\, Brasles (02)
DESCRIPTION:Départ à 15h pour des trails de 8 et 14 km entre sentiers\, vignes et forêt. Trail Jules-Verne au profit de l’association sportive du lycée Jules Verne de Château-Thierry. \nRenseignements et inscriptions :  tcomois@free.fr
URL:https://oise-somme.1000pattes.guide/event/trail-jules-verne-brasles-02/
LOCATION:Brasles
CATEGORIES:Trail ou course nature
END:VEVENT
END:VCALENDAR