BEGIN:VCALENDAR
VERSION:2.0
PRODID:-// - ECPv6.2.8.1//NONSGML v1.0//EN
CALSCALE:GREGORIAN
METHOD:PUBLISH
X-ORIGINAL-URL:https://oise-somme.1000pattes.guide
X-WR-CALDESC:évènements pour 
REFRESH-INTERVAL;VALUE=DURATION:PT1H
X-Robots-Tag:noindex
X-PUBLISHED-TTL:PT1H
BEGIN:VTIMEZONE
TZID:Europe/Paris
BEGIN:DAYLIGHT
TZOFFSETFROM:+0100
TZOFFSETTO:+0200
TZNAME:CEST
DTSTART:20260329T010000
END:DAYLIGHT
BEGIN:STANDARD
TZOFFSETFROM:+0200
TZOFFSETTO:+0100
TZNAME:CET
DTSTART:20261025T010000
END:STANDARD
END:VTIMEZONE
BEGIN:VEVENT
DTSTART;TZID=Europe/Paris:20260322T080000
DTEND;TZID=Europe/Paris:20260322T170000
DTSTAMP:20260422T164712
CREATED:20260125T141326Z
LAST-MODIFIED:20260125T141326Z
UID:10000292-1774166400-1774198800@oise-somme.1000pattes.guide
SUMMARY:La Jaux-Viale à Jaux (60)
DESCRIPTION:Désormais organisée par l’association Les Jaux-Viaux\, nouvellement créée\, cette manifestation continuera de financer des sorties scolaires et du matériel pour les enfants scolarisés dans la commune.\n9h30 : course 5 km 120mD+\, adultes\, 6 € – 10h30 : course 9 km 160mD+\, adultes\, 10 € – 11h30 : courses enfants\, 2\,50 €. Récompenses pour tous.\nRepas sur réservation : 10 € par adulte et 6 € par enfant.\nInscription sur  https://jaux-viale.adeorun.com/ et renseignements auprès de Coralie au 06.72.80.23.77 ou lajauxviale@gmail.com
URL:https://oise-somme.1000pattes.guide/event/la-jaux-viale-a-jaux-60/
LOCATION:Jaux
END:VEVENT
END:VCALENDAR