BEGIN:VCALENDAR
VERSION:2.0
PRODID:-// - ECPv6.2.8.1//NONSGML v1.0//EN
CALSCALE:GREGORIAN
METHOD:PUBLISH
X-ORIGINAL-URL:https://oise-somme.1000pattes.guide
X-WR-CALDESC:évènements pour 
REFRESH-INTERVAL;VALUE=DURATION:PT1H
X-Robots-Tag:noindex
X-PUBLISHED-TTL:PT1H
BEGIN:VTIMEZONE
TZID:Europe/Paris
BEGIN:DAYLIGHT
TZOFFSETFROM:+0100
TZOFFSETTO:+0200
TZNAME:CEST
DTSTART:20260329T010000
END:DAYLIGHT
BEGIN:STANDARD
TZOFFSETFROM:+0200
TZOFFSETTO:+0100
TZNAME:CET
DTSTART:20261025T010000
END:STANDARD
END:VTIMEZONE
BEGIN:VEVENT
DTSTART;VALUE=DATE:20261218
DTEND;VALUE=DATE:20261219
DTSTAMP:20260423T032858
CREATED:20260227T134836Z
LAST-MODIFIED:20260227T134836Z
UID:10000388-1797552000-1797638399@oise-somme.1000pattes.guide
SUMMARY:Corrida de Ham (80)
DESCRIPTION:Corrida de Ham (80)\nOrganisée par le service temps libre de la ville de Ham. \nRendez-vous devant la mairie de Ham pour un parcours dans le centre-ville. \nCourses enfants à 19h30. \nCourse féminine ( 3\,2km) à 20h15. \nCourse des As (6\,4km) à 20h40. \nRenseignements en mairie \nInscriptions sur place à partir de 18h.
URL:https://oise-somme.1000pattes.guide/event/corrida-de-ham-80-2/
LOCATION:Ham
CATEGORIES:Course sur route
END:VEVENT
END:VCALENDAR