BEGIN:VCALENDAR
VERSION:2.0
PRODID:-// - ECPv6.2.8.1//NONSGML v1.0//EN
CALSCALE:GREGORIAN
METHOD:PUBLISH
X-ORIGINAL-URL:https://oise-somme.1000pattes.guide
X-WR-CALDESC:évènements pour 
REFRESH-INTERVAL;VALUE=DURATION:PT1H
X-Robots-Tag:noindex
X-PUBLISHED-TTL:PT1H
BEGIN:VTIMEZONE
TZID:Europe/Paris
BEGIN:DAYLIGHT
TZOFFSETFROM:+0100
TZOFFSETTO:+0200
TZNAME:CEST
DTSTART:20260329T010000
END:DAYLIGHT
BEGIN:STANDARD
TZOFFSETFROM:+0200
TZOFFSETTO:+0100
TZNAME:CET
DTSTART:20261025T010000
END:STANDARD
END:VTIMEZONE
BEGIN:VEVENT
DTSTART;TZID=Europe/Paris:20261220T080000
DTEND;TZID=Europe/Paris:20261220T170000
DTSTAMP:20260423T032842
CREATED:20260227T134900Z
LAST-MODIFIED:20260227T134900Z
UID:10000389-1797753600-1797786000@oise-somme.1000pattes.guide
SUMMARY:Corrida de Noël d’Abbeville (80)
DESCRIPTION:Corrida de Noël d’Abbeville (80)\nCourse à pied sur route de 5k. Challenge de la route 80. Renseignements au 06.85.06.44.83 pou au 03.22.24.33.39.
URL:https://oise-somme.1000pattes.guide/event/corrida-de-noel-dabbeville-80/
LOCATION:Abbeville
CATEGORIES:Course sur route
END:VEVENT
END:VCALENDAR