BEGIN:VCALENDAR
VERSION:2.0
PRODID:-// - ECPv6.2.8.1//NONSGML v1.0//EN
CALSCALE:GREGORIAN
METHOD:PUBLISH
X-ORIGINAL-URL:https://oise-somme.1000pattes.guide
X-WR-CALDESC:évènements pour 
REFRESH-INTERVAL;VALUE=DURATION:PT1H
X-Robots-Tag:noindex
X-PUBLISHED-TTL:PT1H
BEGIN:VTIMEZONE
TZID:Europe/Paris
BEGIN:DAYLIGHT
TZOFFSETFROM:+0100
TZOFFSETTO:+0200
TZNAME:CEST
DTSTART:20240331T010000
END:DAYLIGHT
BEGIN:STANDARD
TZOFFSETFROM:+0200
TZOFFSETTO:+0100
TZNAME:CET
DTSTART:20241027T010000
END:STANDARD
END:VTIMEZONE
BEGIN:VEVENT
DTSTART;TZID=Europe/Paris:20240407T090000
DTEND;TZID=Europe/Paris:20240407T090000
DTSTAMP:20260425T135817
CREATED:20240131T111004Z
LAST-MODIFIED:20240211T132116Z
UID:10000023-1712480400-1712480400@oise-somme.1000pattes.guide
SUMMARY:Baloise Namur Marathon - Namur (Be)
DESCRIPTION:9 h : départ du marathon à Lives- sur-Meuse. 9 h 30 : semi-ma- rathon à Profondeville. 9 h 45 : \n10 km KickCancer à Namur. Village expo\, animations\, garderie\, meneur d’allure\, navettes… \nbaloisenamurmarathon.com
URL:https://oise-somme.1000pattes.guide/event/baloise-namur-marathon-namur-be/
LOCATION:Baloise Namur Marathon\, Namur\, Belgique
CATEGORIES:Course solidaire,Course sur route
ATTACH;FMTTYPE=image/jpeg:https://oise-somme.1000pattes.guide/wp-content/uploads/sites/4/2024/01/387863659_699600535523094_9110375881610388038_n.jpg
END:VEVENT
END:VCALENDAR