BEGIN:VCALENDAR
VERSION:2.0
PRODID:-// - ECPv6.2.8.1//NONSGML v1.0//EN
CALSCALE:GREGORIAN
METHOD:PUBLISH
X-ORIGINAL-URL:https://oise-somme.1000pattes.guide
X-WR-CALDESC:évènements pour 
REFRESH-INTERVAL;VALUE=DURATION:PT1H
X-Robots-Tag:noindex
X-PUBLISHED-TTL:PT1H
BEGIN:VTIMEZONE
TZID:Europe/Paris
BEGIN:DAYLIGHT
TZOFFSETFROM:+0100
TZOFFSETTO:+0200
TZNAME:CEST
DTSTART:20240331T010000
END:DAYLIGHT
BEGIN:STANDARD
TZOFFSETFROM:+0200
TZOFFSETTO:+0100
TZNAME:CET
DTSTART:20241027T010000
END:STANDARD
END:VTIMEZONE
BEGIN:VEVENT
DTSTART;TZID=Europe/Paris:20240330T140000
DTEND;TZID=Europe/Paris:20240330T140000
DTSTAMP:20260425T172636
CREATED:20240131T095752Z
LAST-MODIFIED:20240131T095752Z
UID:10000020-1711807200-1711807200@oise-somme.1000pattes.guide
SUMMARY:Foulées des rencontres Brayonnes - Saint-Germer-de-Fly (60)
DESCRIPTION:Courses enfants à 14 h 05. Un 5 km partira à 14 h 05\, un 14 km partira à 15 h. \nUne marche de 9 km est organisée (départ à 14 h). \nCourse organisée au profit de la ligue contre le cancer \nInformations et inscriptions : www.airb.fr
URL:https://oise-somme.1000pattes.guide/event/foulees-des-rencontres-brayonnes-saint-germer-de-fly-60/
LOCATION:Foulées des rencontres Brayonnes\, Saint-Germer-de-Fly\, France
CATEGORIES:Course pour enfants,Course solidaire,Course sur route,Marche
END:VEVENT
END:VCALENDAR