BEGIN:VCALENDAR
VERSION:2.0
PRODID:-// - ECPv6.2.8.1//NONSGML v1.0//EN
CALSCALE:GREGORIAN
METHOD:PUBLISH
X-ORIGINAL-URL:https://oise-somme.1000pattes.guide
X-WR-CALDESC:évènements pour 
REFRESH-INTERVAL;VALUE=DURATION:PT1H
X-Robots-Tag:noindex
X-PUBLISHED-TTL:PT1H
BEGIN:VTIMEZONE
TZID:Europe/Paris
BEGIN:DAYLIGHT
TZOFFSETFROM:+0100
TZOFFSETTO:+0200
TZNAME:CEST
DTSTART:20240331T010000
END:DAYLIGHT
BEGIN:STANDARD
TZOFFSETFROM:+0200
TZOFFSETTO:+0100
TZNAME:CET
DTSTART:20241027T010000
END:STANDARD
END:VTIMEZONE
BEGIN:VEVENT
DTSTART;VALUE=DATE:20240622
DTEND;VALUE=DATE:20240623
DTSTAMP:20260425T231833
CREATED:20240213T084925Z
LAST-MODIFIED:20250130T133348Z
UID:10000124-1719014400-1719100799@oise-somme.1000pattes.guide
SUMMARY:RAID DE L’ECUREUIL - Beauvais (60)
DESCRIPTION:RAID-JE [6-9][10-13]-CLM EQ \nRAID-XXS-CLM EQ \nRAID-XS-CLM EQ \nInscription : 06 61 21 77 10  \ndbnicolas60@gmail.com \nhttp://www.beauvaistriathlon.fr/raid-de-l-ecureuil/
URL:https://oise-somme.1000pattes.guide/event/raid-de-lecureuil-beauvais-60/
LOCATION:RAID DE L’ECUREUIL\, Beauvais\, France
CATEGORIES:Raid
END:VEVENT
END:VCALENDAR