BEGIN:VCALENDAR
VERSION:2.0
PRODID:-// - ECPv6.2.8.1//NONSGML v1.0//EN
CALSCALE:GREGORIAN
METHOD:PUBLISH
X-ORIGINAL-URL:https://oise-somme.1000pattes.guide
X-WR-CALDESC:évènements pour 
REFRESH-INTERVAL;VALUE=DURATION:PT1H
X-Robots-Tag:noindex
X-PUBLISHED-TTL:PT1H
BEGIN:VTIMEZONE
TZID:Europe/Paris
BEGIN:DAYLIGHT
TZOFFSETFROM:+0100
TZOFFSETTO:+0200
TZNAME:CEST
DTSTART:20240331T010000
END:DAYLIGHT
BEGIN:STANDARD
TZOFFSETFROM:+0200
TZOFFSETTO:+0100
TZNAME:CET
DTSTART:20241027T010000
END:STANDARD
END:VTIMEZONE
BEGIN:VEVENT
DTSTART;TZID=Europe/Paris:20241026T140000
DTEND;TZID=Europe/Paris:20241026T140000
DTSTAMP:20260426T024420
CREATED:20240213T102457Z
LAST-MODIFIED:20240930T104617Z
UID:10000135-1729951200-1729951200@oise-somme.1000pattes.guide
SUMMARY:TOUQUET BIKE & RUN - Touquet (62)
DESCRIPTION:B&R-JE [10-13][12-19]-CPRJ \nB&R-XS-CPRA \nInscriptions : contact@touquetraid.com – www.touquetbikeandrun.com
URL:https://oise-somme.1000pattes.guide/event/touquet-bike-run-touquet-62/
LOCATION:TOUQUET BIKE & RUN\, Touquet\, France
CATEGORIES:Triathlon
END:VEVENT
END:VCALENDAR