BEGIN:VCALENDAR
VERSION:2.0
PRODID:-// - ECPv6.2.8.1//NONSGML v1.0//EN
CALSCALE:GREGORIAN
METHOD:PUBLISH
X-ORIGINAL-URL:https://oise-somme.1000pattes.guide
X-WR-CALDESC:évènements pour 
REFRESH-INTERVAL;VALUE=DURATION:PT1H
X-Robots-Tag:noindex
X-PUBLISHED-TTL:PT1H
BEGIN:VTIMEZONE
TZID:Europe/Paris
BEGIN:DAYLIGHT
TZOFFSETFROM:+0100
TZOFFSETTO:+0200
TZNAME:CEST
DTSTART:20240331T010000
END:DAYLIGHT
BEGIN:STANDARD
TZOFFSETFROM:+0200
TZOFFSETTO:+0100
TZNAME:CET
DTSTART:20241027T010000
END:STANDARD
END:VTIMEZONE
BEGIN:VEVENT
DTSTART;TZID=Europe/Paris:20241208T080000
DTEND;TZID=Europe/Paris:20241208T170000
DTSTAMP:20260425T135821
CREATED:20240206T202332Z
LAST-MODIFIED:20240207T140444Z
UID:10000044-1733644800-1733677200@oise-somme.1000pattes.guide
SUMMARY:Corrida de Boves (80)
DESCRIPTION:Course de 5km départ à 15h. \nDépart devant la mairie de Boves. \nLe stationnement peut se faire dans les marais entre la salle de basket et le tennis club. \nInformations :  j.p80@orange.fr \nInscriptions via Kilkego.
URL:https://oise-somme.1000pattes.guide/event/corrida-boves/
CATEGORIES:Course sur route
END:VEVENT
BEGIN:VEVENT
DTSTART;TZID=Europe/Paris:20241208T093000
DTEND;TZID=Europe/Paris:20241208T170000
DTSTAMP:20260425T135821
CREATED:20241204T094356Z
LAST-MODIFIED:20241204T094356Z
UID:10000154-1733650200-1733677200@oise-somme.1000pattes.guide
SUMMARY:1ère corrida de Noël à Tillé (60)
DESCRIPTION:La commune de Tillé organise sa première Corrida de Noël\, en partenariat avec les Sapeurs-Pompiers de Tillé\, le dimanche 8 décembre 2024.\n\nDeux parcours (5 Km et 10 Km) sont prévus pour les adultes (à partir de 13 ans) dans les rues de Tillé pour un départ à 9h30.\n\nUne course des lutins est organisée à 11h pour les enfants âgés de 3 à 13 ans.
URL:https://oise-somme.1000pattes.guide/event/1ere-corrida-de-noel-a-tille-60/
LOCATION:Tillé
CATEGORIES:Course sur route
END:VEVENT
BEGIN:VEVENT
DTSTART;TZID=Europe/Paris:20241217T080000
DTEND;TZID=Europe/Paris:20241217T170000
DTSTAMP:20260425T135821
CREATED:20240206T202219Z
LAST-MODIFIED:20240207T140420Z
UID:10000042-1734422400-1734454800@oise-somme.1000pattes.guide
SUMMARY:Corrida de Noël\, Abbeville (80)
DESCRIPTION:Courses enfants à 14h. \nCourse de 5km\, départ à 14h30. Deux boucles de 2\,5km dans le centre d’Abbeville. \nRécompense au plus beau déguisement. \nParking et douches sur place. \nRenseignements : https://runningrca.wixsite.com/rca80 \nInscriptions sur courses80.com
URL:https://oise-somme.1000pattes.guide/event/corrida-noel-abbeville/
LOCATION:Abbeville
CATEGORIES:Course sur route
END:VEVENT
BEGIN:VEVENT
DTSTART;TZID=Europe/Paris:20241220T080000
DTEND;TZID=Europe/Paris:20241220T170000
DTSTAMP:20260425T135821
CREATED:20240206T202117Z
LAST-MODIFIED:20240207T140405Z
UID:10000041-1734681600-1734714000@oise-somme.1000pattes.guide
SUMMARY:Corrida de Ham (80)
DESCRIPTION:Organisée par le service temps libre de la ville de Ham. \nRendez-vous devant la mairie de Ham pour un parcours dans le centre-ville. \nCourses enfants à 19h30. \nCourse féminine ( 3\,2km) à 20h15. \nCourse des As (6\,4km) à 20h40. \nRenseignements en mairie \nInscriptions sur place à partir de 18h.
URL:https://oise-somme.1000pattes.guide/event/corrida-ham/
LOCATION:Ham
CATEGORIES:Course sur route
END:VEVENT
BEGIN:VEVENT
DTSTART;TZID=Europe/Paris:20241227T080000
DTEND;TZID=Europe/Paris:20241227T170000
DTSTAMP:20260425T135821
CREATED:20240206T202012Z
LAST-MODIFIED:20240207T140340Z
UID:10000040-1735286400-1735318800@oise-somme.1000pattes.guide
SUMMARY:Corrida de Friville-Escarbotin (80)
DESCRIPTION:Course dans la ville de 7km (trois boucles). \nDépart à 18h pour les enfants\, 19h pour les adultes. \nRenseignements : 06.89.86.59.44 \nInscriptions sur sport-up.fr ou sur place.
URL:https://oise-somme.1000pattes.guide/event/corrida-friville-escarbotin/
CATEGORIES:Course sur route
END:VEVENT
END:VCALENDAR