BEGIN:VCALENDAR
VERSION:2.0
PRODID:-// - ECPv6.2.8.1//NONSGML v1.0//EN
CALSCALE:GREGORIAN
METHOD:PUBLISH
X-ORIGINAL-URL:https://oise-somme.1000pattes.guide
X-WR-CALDESC:évènements pour 
REFRESH-INTERVAL;VALUE=DURATION:PT1H
X-Robots-Tag:noindex
X-PUBLISHED-TTL:PT1H
BEGIN:VTIMEZONE
TZID:Europe/Paris
BEGIN:DAYLIGHT
TZOFFSETFROM:+0100
TZOFFSETTO:+0200
TZNAME:CEST
DTSTART:20240331T010000
END:DAYLIGHT
BEGIN:STANDARD
TZOFFSETFROM:+0200
TZOFFSETTO:+0100
TZNAME:CET
DTSTART:20241027T010000
END:STANDARD
END:VTIMEZONE
BEGIN:VEVENT
DTSTART;TZID=Europe/Paris:20241110T080000
DTEND;TZID=Europe/Paris:20241110T170000
DTSTAMP:20260425T174033
CREATED:20240206T203949Z
LAST-MODIFIED:20240207T141012Z
UID:10000053-1731225600-1731258000@oise-somme.1000pattes.guide
SUMMARY:Corrida de Marcelcave (80)
DESCRIPTION:Depuis la place de la mairie\, deux courses au programme : 5km populaire (course ou marche active) ou 5km des As (trois boucles dans le village). \nDéparts à 14h30. \nInformations et inscriptions : https://cercle-olympique-samarien.jimdosite.com
URL:https://oise-somme.1000pattes.guide/event/corrida-marcelcave/
LOCATION:marcelcave
CATEGORIES:Course sur route
END:VEVENT
END:VCALENDAR