BEGIN:VCALENDAR
VERSION:2.0
PRODID:-// - ECPv6.2.8.1//NONSGML v1.0//EN
CALSCALE:GREGORIAN
METHOD:PUBLISH
X-ORIGINAL-URL:https://oise-somme.1000pattes.guide
X-WR-CALDESC:évènements pour 
REFRESH-INTERVAL;VALUE=DURATION:PT1H
X-Robots-Tag:noindex
X-PUBLISHED-TTL:PT1H
BEGIN:VTIMEZONE
TZID:Europe/Paris
BEGIN:DAYLIGHT
TZOFFSETFROM:+0100
TZOFFSETTO:+0200
TZNAME:CEST
DTSTART:20240331T010000
END:DAYLIGHT
BEGIN:STANDARD
TZOFFSETFROM:+0200
TZOFFSETTO:+0100
TZNAME:CET
DTSTART:20241027T010000
END:STANDARD
END:VTIMEZONE
BEGIN:VEVENT
DTSTART;TZID=Europe/Paris:20241117T080000
DTEND;TZID=Europe/Paris:20241117T170000
DTSTAMP:20260425T174033
CREATED:20240206T203713Z
LAST-MODIFIED:20240207T140623Z
UID:10000050-1731830400-1731862800@oise-somme.1000pattes.guide
SUMMARY:Corrida de Corbie (80)
DESCRIPTION:Courses pour enfants de 13h40 à 14h. \n14h20\, course populaire. 15h\, 5 et 10km.\nRendez-vous devant la mairie de Corbie. \nRenseignements : corridacorbie@gmail.com \nInscriptions via Kilkego.
URL:https://oise-somme.1000pattes.guide/event/corrida-corbie/
END:VEVENT
END:VCALENDAR