BEGIN:VCALENDAR
VERSION:2.0
PRODID:-// - ECPv6.2.8.1//NONSGML v1.0//EN
CALSCALE:GREGORIAN
METHOD:PUBLISH
X-ORIGINAL-URL:https://oise-somme.1000pattes.guide
X-WR-CALDESC:évènements pour 
REFRESH-INTERVAL;VALUE=DURATION:PT1H
X-Robots-Tag:noindex
X-PUBLISHED-TTL:PT1H
BEGIN:VTIMEZONE
TZID:Europe/Paris
BEGIN:DAYLIGHT
TZOFFSETFROM:+0100
TZOFFSETTO:+0200
TZNAME:CEST
DTSTART:20240331T010000
END:DAYLIGHT
BEGIN:STANDARD
TZOFFSETFROM:+0200
TZOFFSETTO:+0100
TZNAME:CET
DTSTART:20241027T010000
END:STANDARD
END:VTIMEZONE
BEGIN:VEVENT
DTSTART;TZID=Europe/Paris:20241220T080000
DTEND;TZID=Europe/Paris:20241220T170000
DTSTAMP:20260425T154017
CREATED:20240206T202117Z
LAST-MODIFIED:20240207T140405Z
UID:10000041-1734681600-1734714000@oise-somme.1000pattes.guide
SUMMARY:Corrida de Ham (80)
DESCRIPTION:Organisée par le service temps libre de la ville de Ham. \nRendez-vous devant la mairie de Ham pour un parcours dans le centre-ville. \nCourses enfants à 19h30. \nCourse féminine ( 3\,2km) à 20h15. \nCourse des As (6\,4km) à 20h40. \nRenseignements en mairie \nInscriptions sur place à partir de 18h.
URL:https://oise-somme.1000pattes.guide/event/corrida-ham/
LOCATION:Ham
CATEGORIES:Course sur route
END:VEVENT
END:VCALENDAR