BEGIN:VCALENDAR
VERSION:2.0
PRODID:-// - ECPv6.2.8.1//NONSGML v1.0//EN
CALSCALE:GREGORIAN
METHOD:PUBLISH
X-ORIGINAL-URL:https://oise-somme.1000pattes.guide
X-WR-CALDESC:évènements pour 
REFRESH-INTERVAL;VALUE=DURATION:PT1H
X-Robots-Tag:noindex
X-PUBLISHED-TTL:PT1H
BEGIN:VTIMEZONE
TZID:Europe/Paris
BEGIN:DAYLIGHT
TZOFFSETFROM:+0100
TZOFFSETTO:+0200
TZNAME:CEST
DTSTART:20260329T010000
END:DAYLIGHT
BEGIN:STANDARD
TZOFFSETFROM:+0200
TZOFFSETTO:+0100
TZNAME:CET
DTSTART:20261025T010000
END:STANDARD
END:VTIMEZONE
BEGIN:VEVENT
DTSTART;VALUE=DATE:20260607
DTEND;VALUE=DATE:20260608
DTSTAMP:20260423T002844
CREATED:20260227T125736Z
LAST-MODIFIED:20260227T125736Z
UID:10000337-1780790400-1780876799@oise-somme.1000pattes.guide
SUMMARY:La Pontponnienne\, l’édition d’Eddy\, à Pontpoint (60)
DESCRIPTION:Courses 100% sur route dans la commune et aux alentours\, organisées par l’association Les Foulées Picardes. 3 parcours : 5 lm\, 10 € – 10 km\, 13 € – 21 km\, 18 €. Inscriptions que la-pontponnienne.adeorun.com\nCette année\, la course soutient la Fondation “ARC” pour la recherche contre le cancer. Des dons sont possibles lors de votre inscription et seront possibles le jour de la course !
URL:https://oise-somme.1000pattes.guide/event/la-pontponnienne-ledition-deddy-a-pontpoint-60/
LOCATION:Pontpoint
CATEGORIES:Course sur route
END:VEVENT
END:VCALENDAR