BEGIN:VCALENDAR
VERSION:2.0
PRODID:-// - ECPv6.2.8.1//NONSGML v1.0//EN
CALSCALE:GREGORIAN
METHOD:PUBLISH
X-ORIGINAL-URL:https://oise-somme.1000pattes.guide
X-WR-CALDESC:évènements pour 
REFRESH-INTERVAL;VALUE=DURATION:PT1H
X-Robots-Tag:noindex
X-PUBLISHED-TTL:PT1H
BEGIN:VTIMEZONE
TZID:Europe/Paris
BEGIN:DAYLIGHT
TZOFFSETFROM:+0100
TZOFFSETTO:+0200
TZNAME:CEST
DTSTART:20240331T010000
END:DAYLIGHT
BEGIN:STANDARD
TZOFFSETFROM:+0200
TZOFFSETTO:+0100
TZNAME:CET
DTSTART:20241027T010000
END:STANDARD
END:VTIMEZONE
BEGIN:VEVENT
DTSTART;VALUE=DATE:20240630
DTEND;VALUE=DATE:20240701
DTSTAMP:20260425T151212
CREATED:20240213T091043Z
LAST-MODIFIED:20240213T091043Z
UID:10000128-1719705600-1719791999@oise-somme.1000pattes.guide
SUMMARY:RAID IN SOMME - Moreuil (80)
DESCRIPTION:RAID-JE [12-19]-EQ-CPRJ \nRAID-XS-EQ ; RAID-M-EQ \nInscription : 06 80 71 03 14  \nbenoit.duvielguerbigny@gmail.com
URL:https://oise-somme.1000pattes.guide/event/raid-in-somme-moreuil-80/
LOCATION:RAID IN SOMME\, Moreuil\, France
CATEGORIES:Triathlon
END:VEVENT
END:VCALENDAR