BEGIN:VCALENDAR
VERSION:2.0
PRODID:-// - ECPv6.2.8.1//NONSGML v1.0//EN
CALSCALE:GREGORIAN
METHOD:PUBLISH
X-ORIGINAL-URL:https://oise-somme.1000pattes.guide
X-WR-CALDESC:évènements pour 
REFRESH-INTERVAL;VALUE=DURATION:PT1H
X-Robots-Tag:noindex
X-PUBLISHED-TTL:PT1H
BEGIN:VTIMEZONE
TZID:Europe/Paris
BEGIN:DAYLIGHT
TZOFFSETFROM:+0100
TZOFFSETTO:+0200
TZNAME:CEST
DTSTART:20240331T010000
END:DAYLIGHT
BEGIN:STANDARD
TZOFFSETFROM:+0200
TZOFFSETTO:+0100
TZNAME:CET
DTSTART:20241027T010000
END:STANDARD
END:VTIMEZONE
BEGIN:VEVENT
DTSTART;TZID=Europe/Paris:20241101T080000
DTEND;TZID=Europe/Paris:20241101T170000
DTSTAMP:20260425T172320
CREATED:20240206T204222Z
LAST-MODIFIED:20240207T144743Z
UID:10000055-1730448000-1730480400@oise-somme.1000pattes.guide
SUMMARY:La trail’çotaine\, Tracy-le-Val (60)
DESCRIPTION:Au départ de la place de la mairie de Tracy-le-Val\, courses enfants (10-11 ans\, 12-13 ans et 14-15 ans) à 9h\, marche puis trail de 6 ou 10km. \nPlus de renseignements : : latracotaine@yahoo.com \nInscriptions via Adeorun
URL:https://oise-somme.1000pattes.guide/event/trail-cotaine-tracy/
CATEGORIES:Course pour enfants,Trail ou course nature
END:VEVENT
END:VCALENDAR