BEGIN:VCALENDAR
VERSION:2.0
PRODID:-// - ECPv6.2.8.1//NONSGML v1.0//EN
CALSCALE:GREGORIAN
METHOD:PUBLISH
X-ORIGINAL-URL:https://oise-somme.1000pattes.guide
X-WR-CALDESC:évènements pour 
REFRESH-INTERVAL;VALUE=DURATION:PT1H
X-Robots-Tag:noindex
X-PUBLISHED-TTL:PT1H
BEGIN:VTIMEZONE
TZID:Europe/Paris
BEGIN:DAYLIGHT
TZOFFSETFROM:+0100
TZOFFSETTO:+0200
TZNAME:CEST
DTSTART:20240331T010000
END:DAYLIGHT
BEGIN:STANDARD
TZOFFSETFROM:+0200
TZOFFSETTO:+0100
TZNAME:CET
DTSTART:20241027T010000
END:STANDARD
END:VTIMEZONE
BEGIN:VEVENT
DTSTART;VALUE=DATE:20240519
DTEND;VALUE=DATE:20240520
DTSTAMP:20260425T204412
CREATED:20240212T110627Z
LAST-MODIFIED:20240212T110627Z
UID:10000120-1716076800-1716163199@oise-somme.1000pattes.guide
SUMMARY:TRIATHLON DE SANGATTE  - Sangatte (62)
DESCRIPTION:Championnat HdF / Triathlon Jeunes  \nAQUA-JE ; TRI-XS-IND ; TRI-S-IND ; TRI-S-CLM EQ
URL:https://oise-somme.1000pattes.guide/event/triathlon-de-sangatte-sangatte-62/
LOCATION:TRIATHLON DE SANGATTE\, Sangatte\, France
CATEGORIES:Triathlon
END:VEVENT
END:VCALENDAR