BEGIN:VCALENDAR
VERSION:2.0
PRODID:-// - ECPv6.2.8.1//NONSGML v1.0//EN
CALSCALE:GREGORIAN
METHOD:PUBLISH
X-ORIGINAL-URL:https://oise-somme.1000pattes.guide
X-WR-CALDESC:évènements pour 
REFRESH-INTERVAL;VALUE=DURATION:PT1H
X-Robots-Tag:noindex
X-PUBLISHED-TTL:PT1H
BEGIN:VTIMEZONE
TZID:Europe/Paris
BEGIN:DAYLIGHT
TZOFFSETFROM:+0100
TZOFFSETTO:+0200
TZNAME:CEST
DTSTART:20260329T010000
END:DAYLIGHT
BEGIN:STANDARD
TZOFFSETFROM:+0200
TZOFFSETTO:+0100
TZNAME:CET
DTSTART:20261025T010000
END:STANDARD
END:VTIMEZONE
BEGIN:VEVENT
DTSTART;TZID=Europe/Paris:20260419T080000
DTEND;TZID=Europe/Paris:20260419T170000
DTSTAMP:20260425T151510
CREATED:20260125T143543Z
LAST-MODIFIED:20260413T083806Z
UID:10000307-1776585600-1776618000@oise-somme.1000pattes.guide
SUMMARY:Aux Pieds du Roye\, Villers-les-Roye (80)
DESCRIPTION:Aux Pieds du Roye\, Villers-les-Roye (80)\, nouveauté 2026\nCourses organisées par Les Pieds Nicleys de Roye. \n9h : trail 17 km \n9h30 : trail 10 km \n10h10 : marche 10 km \nInscription : https://trail-aux-pieds-du-roye.adeorun.com/ \nRenseignements : pieds.nicleys@outlook.fr
URL:https://oise-somme.1000pattes.guide/event/aux-pieds-du-roye/
LOCATION:roye
CATEGORIES:Marche,Trail ou course nature
END:VEVENT
BEGIN:VEVENT
DTSTART;TZID=Europe/Paris:20260419T080000
DTEND;TZID=Europe/Paris:20260419T170000
DTSTAMP:20260425T151510
CREATED:20260125T143330Z
LAST-MODIFIED:20260125T143330Z
UID:10000306-1776585600-1776618000@oise-somme.1000pattes.guide
SUMMARY:Les 3 heures et 6 heures de Dury (02)
DESCRIPTION:Cap 21 et la mairie organisent la quatrième édition des 3h et 6h de Dury. Départ à 10h. Possibilité de courir 1h ou 2h\, de faire la créer une équipe ou de marcher. Le parcours\, identique à 2025\, est extra plat\, il se compose d’un aller – retour et d’une petite boucle. Le revêtement est 100 % macadam avec des passages ombragés « Rue du Monchel ». Il mesure environ 1500 mètres (sera mesurée officiellement). \nInscriptions sur Adeorun ou sur place. \nLe but de l’épreuve est de faire la plus grande distance dans un temps donné. Mais elle s’effectue à allure libre. C’est à dire qu’il est possible de courir\, marcher ou alterner les deux en fonction de sa forme. \nL’épreuve est inscrite au calendrier de La DUV ( Deutsche Ultramarathon-Vereinigung\, organisme mondiale qui gère les distance supérieures au marathon).  Cette entité gère une base de données de résultats sur les courses d’ultra-marathon dans le monde et présente des données statistiques\, des classements nationaux et internationaux.  \nHoraires : \n\nDépart des 6h et 3h (équipes et individuels) à 10h00\nFin des 3h (individuels et équipes) à 13h00 suivi des récompenses\nFin des 6h (individuels et équipes) à 16h00 suivi des récompenses\nPossibilité de n’effectuer qu’1 h ou 2h mais départ à 10h00\n► Il est prévu des équipes de 3 mais vous pouvez être 2 et dans ce cas vous ferez plus (ou pas) de kilomètres chacun.\n\nLe Nouveau tracé de 2025 à remporter tous les suffrages et est reconduit pour 2026:\nExtra plat\, il se compose d’un aller – retour et d’une petite boucle. Le revêtement est 100 % macadam avec des passages ombragés « Rue du Monchel ». Il mesure environ 1500 mètres (sera mesurée officiellement). Vous passez à chaque tour juste à côté du parking voiture et donc l’occasion d’avoir tout à porté de main (même si nous prévoyons une zone ravitaillement / buvette à proximité de la zone de passage de relais).
URL:https://oise-somme.1000pattes.guide/event/3h-6h-dury/
LOCATION:Dury
END:VEVENT
BEGIN:VEVENT
DTSTART;TZID=Europe/Paris:20260419T080000
DTEND;TZID=Europe/Paris:20260419T170000
DTSTAMP:20260425T151510
CREATED:20260125T143100Z
LAST-MODIFIED:20260125T143100Z
UID:10000305-1776585600-1776618000@oise-somme.1000pattes.guide
SUMMARY:Anzac run de Vignacourt (80)
DESCRIPTION:L’Anzac Run ce sont des courses sur route mesurées de 5 km et de 10 km. Trail de 14 km. Courses mesurées. Challenge de la route 80. Renseignements au 06.79.94.65.59 ou au 06.76.12.07.61.
URL:https://oise-somme.1000pattes.guide/event/anzac-run-de-vignacourt-80/
LOCATION:vignacourt
CATEGORIES:Course sur route,Trail ou course nature
END:VEVENT
BEGIN:VEVENT
DTSTART;TZID=Europe/Paris:20260412T080000
DTEND;TZID=Europe/Paris:20260412T170000
DTSTAMP:20260425T151510
CREATED:20260125T142737Z
LAST-MODIFIED:20260125T142737Z
UID:10000304-1775980800-1776013200@oise-somme.1000pattes.guide
SUMMARY:Courir pour le plaisir\, Saint-Quentin (02)
DESCRIPTION:L’ACPI Saint-Quentin organise deux courses visant à “courir pour le plaisir.” \n9h Semi-marathon en 3 boucles dans le Parc d’Isle et le long du canal de Saint-Quentin. \n9h30\,  5 km autour du Parc d’Isle et du canal de Saint-Quentin. \nRenseignements : dubreuild@orange.fr
URL:https://oise-somme.1000pattes.guide/event/courir-pour-le-plaisir-saint-quentin-02/
LOCATION:Saint-Quentin
END:VEVENT
BEGIN:VEVENT
DTSTART;TZID=Europe/Paris:20260412T080000
DTEND;TZID=Europe/Paris:20260412T170000
DTSTAMP:20260425T151510
CREATED:20260125T142607Z
LAST-MODIFIED:20260125T142607Z
UID:10000303-1775980800-1776013200@oise-somme.1000pattes.guide
SUMMARY:Frappadingue Doullens (80)
DESCRIPTION:Frappadingue Doullens (80)\n5 à 6 km. 15 obstacles \nDépart de la première vague à 9 h 30. Puis départs toutes les 15 minutes jusque 13 h 30. \nConsignes et douches disponibles. \nhttps://www.frappadingue.net
URL:https://oise-somme.1000pattes.guide/event/frappadingue-doullens-80-2/
LOCATION:doullens
CATEGORIES:Course à obstacles
END:VEVENT
BEGIN:VEVENT
DTSTART;TZID=Europe/Paris:20260404T180000
DTEND;TZID=Europe/Paris:20260404T180000
DTSTAMP:20260425T151510
CREATED:20260125T142224Z
LAST-MODIFIED:20260330T084355Z
UID:10000301-1775325600-1775325600@oise-somme.1000pattes.guide
SUMMARY:Lap’s trail festival de Vieux-Moulin (60)
DESCRIPTION:Laps’trail est une course à réaliser en solo ou duo. L’objectif est de réaliser un maximum de distance en 5h de temps.\nSamedi : trail 8 km – 247 D+ départ à 18h\, 12 €  et 12 km – 330 D+\, départ à 18h30\, 17 €.\nDimanche : lap’s trail solo 8 km 180 D+\, 29 € – lap’s trail duo 8 km 180 D+\, 58 € – course poussin 1\,5 km à 11h\, 5 € – course école d’athlétisme 1 km à 11h\, 5 € – course baby athlé. 0\,5 km à 11h\, 5 € – rando pédestre 8 km 247 D+ à 9h\, 10 €.\nInscription sur adeorun. Renseignements sur www.lespichard.com
URL:https://oise-somme.1000pattes.guide/event/laps-trail-festival-de-vieux-moulin-60/
LOCATION:Vieux-Moulin
CATEGORIES:Trail ou course nature
END:VEVENT
BEGIN:VEVENT
DTSTART;TZID=Europe/Paris:20260404T080000
DTEND;TZID=Europe/Paris:20260404T170000
DTSTAMP:20260425T151510
CREATED:20260125T142118Z
LAST-MODIFIED:20260125T142118Z
UID:10000300-1775289600-1775322000@oise-somme.1000pattes.guide
SUMMARY:Soli’Trail Picard de Pontpoint (60)
DESCRIPTION:Forte de son expérience avec le Trail des Lueurs d’Espoir depuis 18 ans et le Trail des P’tites Lucioles depuis plus de 10 ans – deux épreuves nocturnes emblématiques – l’association a souhaité innover en proposant cette fois un format de jour. \nLa 1ere Édition du Soli’Trail 2026 se déroulera dans l’après-midi à Moru. Cette manifestation sportive est organisée par Julien & Jonadev en partenariat avec Les Foulées Picardes au profit des enfants atteints de cancer. Au programme : trail “la picarde sauvage“ de 21 km\, 20 €\, départ à 17h – trail “la picarde cool“ de 12 km\, 12 €\, départ à 17h30 – randonnée pédestre “la Ti’ote picarde“ de 12 km\, 7 €\, départ à 17h30. Renseignements au 17.88.88.29.30. \nInscriptions via Adeorun
URL:https://oise-somme.1000pattes.guide/event/solitrail-picard-de-pontpoint-60/
LOCATION:Pontpoint
END:VEVENT
BEGIN:VEVENT
DTSTART;TZID=Europe/Paris:20260329T080000
DTEND;TZID=Europe/Paris:20260329T170000
DTSTAMP:20260425T151510
CREATED:20260125T141925Z
LAST-MODIFIED:20260125T141925Z
UID:10000299-1774771200-1774803600@oise-somme.1000pattes.guide
SUMMARY:5 et 10km de Friville (80)
DESCRIPTION:Courses organisées par l’AC Friville. \nDéparts à 9h. \nRenseignements : acfriville@orange.fr
URL:https://oise-somme.1000pattes.guide/event/5-et-10km-de-friville-80/
LOCATION:Friville Escarbotin
END:VEVENT
BEGIN:VEVENT
DTSTART;TZID=Europe/Paris:20260329T080000
DTEND;TZID=Europe/Paris:20260329T170000
DTSTAMP:20260425T151510
CREATED:20260125T141743Z
LAST-MODIFIED:20260125T141743Z
UID:10000297-1774771200-1774803600@oise-somme.1000pattes.guide
SUMMARY:Ultra Selle Pied de Conty (80)
DESCRIPTION:L’association Conty Selle Pied innove en organisant la deuxième édition de l’Ultra Selle Pied\,. \nC’est le seul événement des Hauts-de-France où chacun est libre de choisir son parcours et sa façon de participer : en courant\, en marchant\, en marche nordique avec bâtons ou en canicross.  \n5 parcours pour tous les niveaux et une ambiance festive garantie. Au programme : – Trail découverte 6 & 12 km – Trail court 22 km – Trail long 42 et 50 km – Canicross 6\, 12\, 2 \,42 et 50 km – marche nordique 6\, 12\, 22\, 42 et 50 km – randonnée 6\, 11\, 22\, 42 et 50 km. \nLe départ se fera entre 8h30 et 10h45 depuis la salle des fêtes de Conty\, où une restauration et une buvette seront proposées.
URL:https://oise-somme.1000pattes.guide/event/ultra-selle-pied-de-conty-80/
LOCATION:conty
CATEGORIES:Trail ou course nature
END:VEVENT
BEGIN:VEVENT
DTSTART;TZID=Europe/Paris:20260329T080000
DTEND;TZID=Europe/Paris:20260329T170000
DTSTAMP:20260425T151510
CREATED:20260125T141652Z
LAST-MODIFIED:20260125T141652Z
UID:10000296-1774771200-1774803600@oise-somme.1000pattes.guide
SUMMARY:La Rando Ganelon de Clairoix (60)
DESCRIPTION:L’association randosport SOFLO organise une randonnée de 12 km avec 350 de dénivelé. Départ à 9h30 du parking\, rue de l’Aronde. Ravitaillement en fin de parcours. Participation de 10 €. Inscription sur adeorun.\nChaque participant recevra un cadeau.
URL:https://oise-somme.1000pattes.guide/event/la-rando-ganelon-de-clairoix-60/
LOCATION:Clairoix
CATEGORIES:Trail ou course nature
END:VEVENT
BEGIN:VEVENT
DTSTART;TZID=Europe/Paris:20260329T080000
DTEND;TZID=Europe/Paris:20260329T170000
DTSTAMP:20260425T151510
CREATED:20260125T141559Z
LAST-MODIFIED:20260125T141559Z
UID:10000295-1774771200-1774803600@oise-somme.1000pattes.guide
SUMMARY:La Senlis’Oise à Senlis (60)
DESCRIPTION:La Senlis’Oise\, course nature\, partira du complexe sportif\, stade Yves Carlier. Parcours\, dénivelé et horaires de départ (Route\, Chemin forestier et Voie Verte) : 22 km (196D+)\, 23 € : 9h15 – 16 km (144D+)\, 18 € : 9h30 – 10 km (97D+)\, 14 € : 9h45 – 5 km (49D+)\, 9 € : 10h – marche Rando 10 km (97D+)\, 9 € : 9h15.\nInscription en ligne sur adeorun.\nPour chaque inscription\,1 € est reversé au collectif “Les Copinces du Valois“. Renseignements sur www.lasenlisoise.com
URL:https://oise-somme.1000pattes.guide/event/la-senlisoise-a-senlis-60/
LOCATION:Senlis
CATEGORIES:Trail ou course nature
END:VEVENT
BEGIN:VEVENT
DTSTART;TZID=Europe/Paris:20260329T080000
DTEND;TZID=Europe/Paris:20260329T170000
DTSTAMP:20260425T151510
CREATED:20260125T141518Z
LAST-MODIFIED:20260125T141518Z
UID:10000294-1774771200-1774803600@oise-somme.1000pattes.guide
SUMMARY:Trail des Anguillères à Frise (80)
DESCRIPTION:Le Rotary Club Péronne-Albert-Ham organise sa 6éme édition du Trail des Anguillères. Au programme : 4 courses 5km / 13km / 23km et 33 km – 2 marches 5km et 13 km – nouveauté !! 1 marche nordique de 15km. Départ de la salle des fêtes à partir de 8h30. Restauration sur place. Renseignements au 06.71.01.24.81.
URL:https://oise-somme.1000pattes.guide/event/trail-des-anguilleres-a-frise-80/
LOCATION:frise
CATEGORIES:Trail ou course nature
END:VEVENT
BEGIN:VEVENT
DTSTART;TZID=Europe/Paris:20260329T080000
DTEND;TZID=Europe/Paris:20260329T170000
DTSTAMP:20260425T151510
CREATED:20260125T141433Z
LAST-MODIFIED:20260125T141433Z
UID:10000293-1774771200-1774803600@oise-somme.1000pattes.guide
SUMMARY:Les foulées impériales de Compiègne (60)
DESCRIPTION:La VGA Compiègne organise la quatrième édition des Foulées Impériales\, les 10km de Compiègne à 10h. \nLe départ et l’arrivée de cette course unique se font au même emplacement\, sur la piste du stade Paul Petitpoisson\, remise des dossards de 7h30 à 9h30. Le parcours emprunte le cours Guynemer\, puis longe l’Oise jusqu’au Pont Neuf. Il traverse ensuite le centre ville de Compiègne\, remonte via la magnifique Avenue Royale et se termine sur la route tournante du grand parc du château. 15 € jusqu’au 11 mars puis 18 € jusqu’au 23 mars. Réduction licencié FFA. Inscription sur adeorun.
URL:https://oise-somme.1000pattes.guide/event/les-foulees-imperiales-de-compiegne-60/
LOCATION:Compiègne
CATEGORIES:Course sur route
END:VEVENT
BEGIN:VEVENT
DTSTART;TZID=Europe/Paris:20260329T080000
DTEND;TZID=Europe/Paris:20260329T170000
DTSTAMP:20260425T151510
CREATED:20260125T140119Z
LAST-MODIFIED:20260125T140119Z
UID:10000282-1774771200-1774803600@oise-somme.1000pattes.guide
SUMMARY:Les 6 heures d'Abbeville (80)
DESCRIPTION:Course de 6 heures en solo\, en duo ou en équipe de 3. Renseignements au 06.01.43.00.42 ou au 03.22.24.33.39. \nInscriptions : \nBoucle de 1\,561 km dans le Parc Municipal de la Bouvaque situé à Abbeville. (2005 et avant) \n  \n 
URL:https://oise-somme.1000pattes.guide/event/les-6-heures-dabbeville-80/
LOCATION:Abbeville
CATEGORIES:Course sur route
END:VEVENT
BEGIN:VEVENT
DTSTART;TZID=Europe/Paris:20260322T080000
DTEND;TZID=Europe/Paris:20260322T170000
DTSTAMP:20260425T151510
CREATED:20260125T141326Z
LAST-MODIFIED:20260125T141326Z
UID:10000292-1774166400-1774198800@oise-somme.1000pattes.guide
SUMMARY:La Jaux-Viale à Jaux (60)
DESCRIPTION:Désormais organisée par l’association Les Jaux-Viaux\, nouvellement créée\, cette manifestation continuera de financer des sorties scolaires et du matériel pour les enfants scolarisés dans la commune.\n9h30 : course 5 km 120mD+\, adultes\, 6 € – 10h30 : course 9 km 160mD+\, adultes\, 10 € – 11h30 : courses enfants\, 2\,50 €. Récompenses pour tous.\nRepas sur réservation : 10 € par adulte et 6 € par enfant.\nInscription sur  https://jaux-viale.adeorun.com/ et renseignements auprès de Coralie au 06.72.80.23.77 ou lajauxviale@gmail.com
URL:https://oise-somme.1000pattes.guide/event/la-jaux-viale-a-jaux-60/
LOCATION:Jaux
END:VEVENT
BEGIN:VEVENT
DTSTART;TZID=Europe/Paris:20260321T080000
DTEND;TZID=Europe/Paris:20260321T170000
DTSTAMP:20260425T151510
CREATED:20260125T141238Z
LAST-MODIFIED:20260316T143101Z
UID:10000291-1774080000-1774112400@oise-somme.1000pattes.guide
SUMMARY:Trail Jules-Verne\, Brasles (02)
DESCRIPTION:Départ à 15h pour des trails de 8 et 14 km entre sentiers\, vignes et forêt. Trail Jules-Verne au profit de l’association sportive du lycée Jules Verne de Château-Thierry. \nRenseignements et inscriptions :  tcomois@free.fr
URL:https://oise-somme.1000pattes.guide/event/trail-jules-verne-brasles-02/
LOCATION:Brasles
CATEGORIES:Trail ou course nature
END:VEVENT
BEGIN:VEVENT
DTSTART;TZID=Europe/Paris:20260321T080000
DTEND;TZID=Europe/Paris:20260321T170000
DTSTAMP:20260425T151510
CREATED:20260125T141145Z
LAST-MODIFIED:20260125T141145Z
UID:10000290-1774080000-1774112400@oise-somme.1000pattes.guide
SUMMARY:Trail de la Lune Bleue à Ailly-sur-Noye (80)
DESCRIPTION:Au XVIIe siècle\, un soir de Lune Bleue\, une femme accusée à tort de sorcellerie fut brûlée vive. Avant de mourir\, elle maudit le village d’Ailly-sur-Noye qui fut alors réduit en cendres. Depuis\, son esprit hante les bois\, rappelant l’injustice subie. Saurez-vous échapper à sa malédiction ?\nLe Trail de la Lune Bleue est une course unique inspirée de l’histoire locale\, qui mêle sport\, patrimoine et ambiance nocturne envoûtante. Trails de 10km et 21 km. Inscriptions via milesrepublic.com\nEn plus\, 1€ de chaque inscription enfants sera intégralement reversé à l’association Lame de Joie\, avec la possibilité d’ajouter un don à votre convenance lors de l’inscription.
URL:https://oise-somme.1000pattes.guide/event/trail-de-la-lune-bleue-a-ailly-sur-noye-80/
LOCATION:ailly sur noye
CATEGORIES:Trail ou course nature
END:VEVENT
BEGIN:VEVENT
DTSTART;TZID=Europe/Paris:20260308T080000
DTEND;TZID=Europe/Paris:20260308T170000
DTSTAMP:20260425T151510
CREATED:20260125T141029Z
LAST-MODIFIED:20260125T141029Z
UID:10000289-1772956800-1772989200@oise-somme.1000pattes.guide
SUMMARY:Les foulées Liesse Marle (02)
DESCRIPTION:Rendez-vous pour les 34e foulées Liesse-Marle pour un semi-marathon ou des courses de 9 et 12 km. \nLe parcours du semi marathon partira de Liesse Notre-Dame\, ville de pèlerinage dédiée à la Vierge Noire. Il traverse la plaine Laonnoise et les sites marécageux de Saint Boétien de Pierrepont\, longe le site naturel Natura de Vesles et Caumont\, Cuirieux et arrive à la porte de la Thiérache à Marle ville d’histoire mérovingienne. Pour les moins aguerris\, inscrivez-vous sur le même parcours en relais 12 et 9 km. \nRenseignements et inscriptions : liessemarle02@gmail.com
URL:https://oise-somme.1000pattes.guide/event/les-foulees-liesse-marle-02/
LOCATION:Marle
END:VEVENT
BEGIN:VEVENT
DTSTART;TZID=Europe/Paris:20260308T080000
DTEND;TZID=Europe/Paris:20260308T170000
DTSTAMP:20260425T151510
CREATED:20260125T140749Z
LAST-MODIFIED:20260125T140749Z
UID:10000287-1772956800-1772989200@oise-somme.1000pattes.guide
SUMMARY:Run&Bike de Saint-Crépin (60)
DESCRIPTION:Une équipe de deux personnes et un vélo que l’on se partage librement dans ce run&bike. \nDeux format : 10 ou 18 km\, départs respectifs à 10h15 et 11h. \nLe départ se tient au gymnase de Saint-Crépin. \nCourses loisirs\, enfants\, draisienne et marche le samedi. \nRestauration\, toilettes\, douches et station de lavage pour vélo sur place. \nInscriptions https://linktr.ee/senzusportexperience
URL:https://oise-somme.1000pattes.guide/event/runbike-de-saint-crepin-60/
LOCATION:Saint Crépin
CATEGORIES:bike and run
END:VEVENT
BEGIN:VEVENT
DTSTART;TZID=Europe/Paris:20260308T080000
DTEND;TZID=Europe/Paris:20260308T170000
DTSTAMP:20260425T151510
CREATED:20260125T140651Z
LAST-MODIFIED:20260125T140651Z
UID:10000286-1772956800-1772989200@oise-somme.1000pattes.guide
SUMMARY:Cottenchy Trail Aventure (80)
DESCRIPTION:– Trail Aventure : trail de 29\,2km avec 530mD+ (soit 34\,5km-effort) chronométré\, avec classement au scratch et par catégorie selon la réglementation FFA ; trail labellisé (Label Bronze) et qualificatif aux championnats de France de trail court. Départ à 9h30\, 28 €.\n– Nature Aventure : trail de 13\,2km avec 160mD+ (soit 14\,8km-effort)\, chronométré\, avec classement au scratch et par catégorie selon la réglementation FFA. Départ à 10h15\, 13 €.\n– Nordic Aventure : marche nordique compétition nature de 17\,2km avec 200mD+ (soit 19\,2km-effort) avec classement au scratch\, par catégorie et par équipe selon la réglementation FFA ; épreuve labellisée FFA (label Régional)\, inscrite au Challenge Nordique des Hautsde France 2026. Départ à 9h45\, 19 €.\n– Marche Aventure : marche avec ou sans bâtons de 11\,2km (ou 9km) avec 180mD+\, sans chronométrage\, ni classement. Départ à 10h30\, 9 €.\nInscription sur adeorun.
URL:https://oise-somme.1000pattes.guide/event/cottenchy-trail-aventure-80/
LOCATION:Cottenchy\, rue de Margny
CATEGORIES:Trail ou course nature
END:VEVENT
BEGIN:VEVENT
DTSTART;TZID=Europe/Paris:20260308T080000
DTEND;TZID=Europe/Paris:20260308T170000
DTSTAMP:20260425T151510
CREATED:20260125T140510Z
LAST-MODIFIED:20260125T140510Z
UID:10000285-1772956800-1772989200@oise-somme.1000pattes.guide
SUMMARY:Trail des Aigles de Gouvieux (60)
DESCRIPTION:5ème édition du Trail des Aigles. Parcours  “découverte“\, avec une distance de 9 km autour des étangs de Toutevoie\, 10 €\, départ à 10h – parcours “Aventure”\, avec une distance de 16 km et 120D+ (dénivelé positif)\, qui vous fera découvrir\, outre les mêmes étangs\, le Pont des Planches\, le camp de César\, les vignes de Gouvieux et les alentours du village troglodyte\, 18 €\, départ à 9h45 – et\, nouveauté\, une petite randonnée de 9 km\, La Godvicienne\, non chronométrée\, sur le parcours « Découverte »\, 10 €\, départ à 9h. Inscription sur adeorun et renseignements sur  https://www.facebook.com/traildesaiglesgouvieux
URL:https://oise-somme.1000pattes.guide/event/trail-des-aigles-de-gouvieux-60/
LOCATION:Trail des aigles de Gouvieux\, Gouvieux\, France
CATEGORIES:Trail ou course nature
END:VEVENT
BEGIN:VEVENT
DTSTART;TZID=Europe/Paris:20260307T080000
DTEND;TZID=Europe/Paris:20260308T170000
DTSTAMP:20260425T151510
CREATED:20260303T083841Z
LAST-MODIFIED:20260303T083847Z
UID:10000390-1772870400-1772989200@oise-somme.1000pattes.guide
SUMMARY:La P’tite Vadrouille à Agnetz (60)
DESCRIPTION:La P’tite Vadrouille à Agnetz (60)\nAu programme : trail découverte de 12 et 19 km – trail court de 38 km – randonnée de 12 km – courses enfants de 1\,5 à 3 km.
URL:https://oise-somme.1000pattes.guide/event/la-ptite-vadrouille-a-agnetz-60-2/
LOCATION:agnetz
CATEGORIES:Trail ou course nature
END:VEVENT
BEGIN:VEVENT
DTSTART;TZID=Europe/Paris:20260307T080000
DTEND;TZID=Europe/Paris:20260307T170000
DTSTAMP:20260425T151510
CREATED:20260125T135301Z
LAST-MODIFIED:20260125T135409Z
UID:10000275-1772870400-1772902800@oise-somme.1000pattes.guide
SUMMARY:LABO2\, course d’orientation à Gury (60)
DESCRIPTION:Deuxième édition de cette course d’orientation nocturne au score organisée par Lab’Venture Oise Orientation\, par équipe de 2. Prendre un maximum de balises en équipe de deux en 3h dans le village\, sur les chemins et en forêt… Retrait des dossards sur place le jour de la course à partir de 16h à la mairie. Départ à 18h.\nDeux jeux de cartes par équipe et roadbook fournis. Lots et repas de fin de course pour tous. Inscription de 54 € jusqu’au 25 janvier ensuite\, 60 € jusqu’au 4 février. Inscription sur adeorun.
URL:https://oise-somme.1000pattes.guide/event/labo2-course-dorientation-a-gury-60/
LOCATION:Gury
END:VEVENT
BEGIN:VEVENT
DTSTART;TZID=Europe/Paris:20260301T080000
DTEND;TZID=Europe/Paris:20260301T170000
DTSTAMP:20260425T151510
CREATED:20260125T135904Z
LAST-MODIFIED:20260125T135904Z
UID:10000281-1772352000-1772384400@oise-somme.1000pattes.guide
SUMMARY:Les 4 saisons d'Amiens (80)\, hiver
DESCRIPTION:Courses sur route de 5 km et de 10 km. Challenge de la route 80. Label FFA. Plus d’infos sur le site valdesomme.fr et renseignements au 06.21.95.17.02. \nDépart du parc du Grand Marais. \n 
URL:https://oise-somme.1000pattes.guide/event/les-4-saisons-damiens-80-hiver/
LOCATION:Amiens
CATEGORIES:Course sur route
END:VEVENT
BEGIN:VEVENT
DTSTART;TZID=Europe/Paris:20260222T080000
DTEND;TZID=Europe/Paris:20260222T170000
DTSTAMP:20260425T151510
CREATED:20260125T135804Z
LAST-MODIFIED:20260125T135804Z
UID:10000280-1771747200-1771779600@oise-somme.1000pattes.guide
SUMMARY:Les 10km de Morcourt (02)
DESCRIPTION:Course organisée par Cap 21 \nDépart à 9h pour une randonnée de 10km. \nCourses enfants à 12h. \n5km à 13h et 10km route à 14h30. \nInscriptions en ligne et au magasin Eudurance Shop de Saint-Quentin. \nParcours plat en 2 boucles\, départ/arrivée au même endroit\,
URL:https://oise-somme.1000pattes.guide/event/les-10km-de-morcourt-02/
LOCATION:Morcourt
CATEGORIES:Course sur route
END:VEVENT
BEGIN:VEVENT
DTSTART;TZID=Europe/Paris:20260208T080000
DTEND;TZID=Europe/Paris:20260208T170000
DTSTAMP:20260425T151510
CREATED:20260125T135705Z
LAST-MODIFIED:20260201T214430Z
UID:10000279-1770537600-1770570000@oise-somme.1000pattes.guide
SUMMARY:Les 8h de Charly (02)
DESCRIPTION:Rendez-vous pour la 27e édition des 8h de Charly. \nDépart à 8h\, rue de Rudenoise\, Charly pour le trophée Pierre Gau (50km). \nCourse de 10km à 10h (départ 16 place de la Mairie). \nCourses enfants à 14h. \nRenseignements : pascalou02.marechal@orange.fr
URL:https://oise-somme.1000pattes.guide/event/les-8h-de-charly-02/
LOCATION:charly
CATEGORIES:Course sur route,Marche
END:VEVENT
BEGIN:VEVENT
DTSTART;TZID=Europe/Paris:20260208T080000
DTEND;TZID=Europe/Paris:20260208T170000
DTSTAMP:20260425T151510
CREATED:20260125T135612Z
LAST-MODIFIED:20260125T135612Z
UID:10000278-1770537600-1770570000@oise-somme.1000pattes.guide
SUMMARY:Cross de Dury (02)
DESCRIPTION:Cap 21 organise le cross de Dury en collaboration avec la commune. Au programme : cross court de 4 km (départ à 10h)\, courses enfants à 10h30 et cross long de 8 km (11h). Départ à la salle des fêtes. \nInscriptions en ligne https://cap21athle.fr/ ou sur place dès 9h.
URL:https://oise-somme.1000pattes.guide/event/cross-de-dury-02/
LOCATION:Dury
CATEGORIES:Cross
END:VEVENT
BEGIN:VEVENT
DTSTART;TZID=Europe/Paris:20260207T080000
DTEND;TZID=Europe/Paris:20260207T170000
DTSTAMP:20260425T151510
CREATED:20260125T140410Z
LAST-MODIFIED:20260125T140410Z
UID:10000284-1770451200-1770483600@oise-somme.1000pattes.guide
SUMMARY:La P’tite Vadrouille à Agnetz (60)
DESCRIPTION:Au programme au départ d’Agnetz : trail découverte de 12 et 19 km – trail court de 38 km – randonnée de 12 km – courses enfants de 1\,5 à 3 km.
URL:https://oise-somme.1000pattes.guide/event/la-ptite-vadrouille-a-agnetz-60/
LOCATION:agnetz
END:VEVENT
BEGIN:VEVENT
DTSTART;TZID=Europe/Paris:20260207T080000
DTEND;TZID=Europe/Paris:20260207T170000
DTSTAMP:20260425T151510
CREATED:20260125T135455Z
LAST-MODIFIED:20260125T135455Z
UID:10000277-1770451200-1770483600@oise-somme.1000pattes.guide
SUMMARY:Foulées méaultoises de Méaulte (80)
DESCRIPTION:Course de 5 km et 10 km dans les rues de la commune\, label Bronze.Courses qualificatives pour les Championnats de France. Challenge départemental des courses sur route. Départ à 9h15 pour le 5 km et 10h pour le 10 km au centre ville. Renseignements au 06.46.17.50.61.
URL:https://oise-somme.1000pattes.guide/event/foulees-meaultoises-de-meaulte-80/
LOCATION:Méaulte\, Méaulte\, 80523\, France
CATEGORIES:Course sur route
END:VEVENT
BEGIN:VEVENT
DTSTART;TZID=Europe/Paris:20260207T080000
DTEND;TZID=Europe/Paris:20260207T170000
DTSTAMP:20260425T151510
CREATED:20260125T135357Z
LAST-MODIFIED:20260125T135357Z
UID:10000276-1770451200-1770483600@oise-somme.1000pattes.guide
SUMMARY:ClermonTrail de Clermont (60)
DESCRIPTION:La 4ème édition du ClermonTrail partira de la salle André Pommery : marche de 8 km 175 D+\, départ à 16h\, 10 € – course de 8 km 210 D+\, départ à 18h\, 12 € – course de 13 km 300 D+\, départ à 19h\, 16 €. Inscriptions sur adeorun.com.
URL:https://oise-somme.1000pattes.guide/event/clermontrail-de-clermont-60/
LOCATION:Clermont’trail\, Clermont\, 60600\, France
END:VEVENT
END:VCALENDAR