BEGIN:VCALENDAR
VERSION:2.0
PRODID:-// - ECPv6.2.8.1//NONSGML v1.0//EN
CALSCALE:GREGORIAN
METHOD:PUBLISH
X-ORIGINAL-URL:https://oise-somme.1000pattes.guide
X-WR-CALDESC:évènements pour 
REFRESH-INTERVAL;VALUE=DURATION:PT1H
X-Robots-Tag:noindex
X-PUBLISHED-TTL:PT1H
BEGIN:VTIMEZONE
TZID:Europe/Paris
BEGIN:DAYLIGHT
TZOFFSETFROM:+0100
TZOFFSETTO:+0200
TZNAME:CEST
DTSTART:20260329T010000
END:DAYLIGHT
BEGIN:STANDARD
TZOFFSETFROM:+0200
TZOFFSETTO:+0100
TZNAME:CET
DTSTART:20261025T010000
END:STANDARD
END:VTIMEZONE
BEGIN:VEVENT
DTSTART;TZID=Europe/Paris:20260425T080000
DTEND;TZID=Europe/Paris:20260425T170000
DTSTAMP:20260425T133913
CREATED:20260125T143823Z
LAST-MODIFIED:20260125T143823Z
UID:10000308-1777104000-1777136400@oise-somme.1000pattes.guide
SUMMARY:La belle d’Authie\, Fort-Mahon-Plage (80)
DESCRIPTION:La belle d’Authie\, Fort-Mahon-Plage (80)\nDeuxième édition de la Belle d’Authie cette course nature de 13 km au départ de Fort- Mahon-Plage en direction de la baie d’Authie. Départ à 16 h. Départ et arrivée avenue de la plage\, front de mer. \nInscription sur njuko.com \nRenseignements : lesptitscoureurspicards@gmail.com \nLa Baie\, 2 courses pour un terrain de jeu unique
URL:https://oise-somme.1000pattes.guide/event/la-belle-dauthie-fort-mahon-plage-80/
LOCATION:Fort-Mahon
CATEGORIES:Trail ou course nature
END:VEVENT
BEGIN:VEVENT
DTSTART;TZID=Europe/Paris:20260425T080000
DTEND;TZID=Europe/Paris:20260425T170000
DTSTAMP:20260425T133913
CREATED:20260125T144017Z
LAST-MODIFIED:20260420T115517Z
UID:10000309-1777104000-1777136400@oise-somme.1000pattes.guide
SUMMARY:La Gliséenne - Glisy (80)
DESCRIPTION:L’association Culture et Loisirs de Glisy organise la deuxième édition de sa course sur route autour de la voie verte. \nFormule par éliminations successives sur la même boucle de 2000 m \n15 h 00 Départ de la boucle 1 à courir dans le temps maxi de 12′ \n15 h 15 Départ des seuls coureurs ayant fini la boucle 1 en moins de 12′ et dans le temps maxi de 11′ pour la boucle 2 \n15 h 30 Départ des seuls coureurs ayant fini la boucle 2 en moins de 11′ et dans le temps maxi de 10’30 pour la boucle 3 \n15 h 45 Départ pour les coureurs ayant fini la boucle 3 en moins de 10’30 et dans le temps maxi de 10’00 pour la boucle 4 \n16 h 00 Départ pour les coureurs ayant fini la boucle 4 en moins de 10’00 et dans le temps maxi de 9’30 pour la boucle 5 \n16 h 15 Départ pour les coureurs ayant fini la 5° boucle en moins de 9’30 et dans le temp maxi de 9′ pour la boucle 6 \n16 h 30 Départ pour les coureurs ayant fini la boucle 6 en moins de 9′ et dans le temps maxi de 8’30 \nInscriptions : https://www.klikego.com/inscription/la-gliseenne-2026/course-a-pied-running/1738424279710-2 \nRenseignements : www.ville-glisy.fr
URL:https://oise-somme.1000pattes.guide/event/la-gliseenne-glisy-80/
LOCATION:Glisy
CATEGORIES:Course sur route
END:VEVENT
BEGIN:VEVENT
DTSTART;TZID=Europe/Paris:20260426T080000
DTEND;TZID=Europe/Paris:20260426T170000
DTSTAMP:20260425T133913
CREATED:20260125T144233Z
LAST-MODIFIED:20260125T144233Z
UID:10000310-1777190400-1777222800@oise-somme.1000pattes.guide
SUMMARY:Course nature à Blacourt (60)
DESCRIPTION:Course nature à Blacourt (60)\nL’AS Blacourt organise la 2ème édition de la nouvelle course nature de la commune. La grande nouveauté : Le Marabray de 42 km\, départ 8h30\, 28 € – Le Bray de 22 km avec 300m D+\, départ 9h30\, 18 € – Le Petit Bray de 12 km avec 150m D+\, départ 9h45\, 12 € – La Marche de 12km\, départ 10h\, 8 €.Une médaille sera offerte à tous les finishers. Récompense aux 3 premiers au scratch homme et femme des 2 courses ainsi qu’aux 1ers de chaque catégorie et surtout une ambiance familiale garantie!!! Rdv le 1er janvier 2026 à 12h pour l’ouverture des inscriptions sur adeorun.
URL:https://oise-somme.1000pattes.guide/event/course-nature-a-blacourt-60/
LOCATION:Blacourt
CATEGORIES:Trail ou course nature
END:VEVENT
BEGIN:VEVENT
DTSTART;TZID=Europe/Paris:20260426T080000
DTEND;TZID=Europe/Paris:20260426T170000
DTSTAMP:20260425T133913
CREATED:20260125T144356Z
LAST-MODIFIED:20260125T144356Z
UID:10000311-1777190400-1777222800@oise-somme.1000pattes.guide
SUMMARY:Trail des 2 Monts de Fleurines (60)
DESCRIPTION:Trail des 2 Monts de Fleurines (60)\nTrail et Marche sur chemins et sentiers au coeur de la forêt d’Halatte. Trail La Pagnotte 30 km 500 D+\, départ à 9h\, 17 € ou 20 € – trail La Calipet 22 km 400D+\, départ à 9h30\, 15 € ou 17 € – trail La Fleurinoise 11 km 150 D+\, départ à 9h45\, 10 € ou 12 € – marche 11 km 150 D+\, départ à 9h45\, 7 €. Remise des dossards à partir de 8h sur le lieu de départ.
URL:https://oise-somme.1000pattes.guide/event/trail-des-2-monts/
LOCATION:fleurines
END:VEVENT
BEGIN:VEVENT
DTSTART;TZID=Europe/Paris:20260426T080000
DTEND;TZID=Europe/Paris:20260426T170000
DTSTAMP:20260425T133913
CREATED:20260125T144645Z
LAST-MODIFIED:20260125T144645Z
UID:10000312-1777190400-1777222800@oise-somme.1000pattes.guide
SUMMARY:Trail des bières sacrées à Larbroye (60)
DESCRIPTION:Trail des bières sacrées à Larbroye (60)\nSportifs\, non sportifs\, pour la perf ou pour la fête : il y en a pour tout le monde pour venir vivre cette expérience exceptionnelle ! Au programme : trail de 18 km\, 250 D+\, 35 € – marche de 10 km\, 150D+\, 25 €. Ambiance de folie sur le parcours avec déguisements\, musique\, animations et dégustations ! Ainsi que sur notre marché de la Bière ! Concours du meilleur déguisement individuel et en groupe pour les plus inspirés. L’abus d’alcool est dangereux pour la santé. Inscriptions sur adeorun.
URL:https://oise-somme.1000pattes.guide/event/trail-des-bieres-sacrees-a-larbroye-60/
LOCATION:Larbroye
CATEGORIES:Trail ou course nature
END:VEVENT
BEGIN:VEVENT
DTSTART;TZID=Europe/Paris:20260426T080000
DTEND;TZID=Europe/Paris:20260426T170000
DTSTAMP:20260425T133913
CREATED:20260125T144844Z
LAST-MODIFIED:20260125T144844Z
UID:10000313-1777190400-1777222800@oise-somme.1000pattes.guide
SUMMARY:La Novilacienne de Neuilly-en-Thelle (60)
DESCRIPTION:La Novilacienne de Neuilly-en-Thelle (60)\nMarches libres sur des distances de 9\, 12\, 16\, 20\, 30 et 40 km sur parcours fléchés. Départ et arrivée du complexe sportif Alain Mallon. Ravitaillement – Tombola. Inscriptions sur place. Départ : 07h30. Renseignements au 06.30.92.69.39.
URL:https://oise-somme.1000pattes.guide/event/la-novilacienne-de-neuilly-en-thelle-60/
LOCATION:Neuilly-en-Thelle
CATEGORIES:Marche
END:VEVENT
BEGIN:VEVENT
DTSTART;TZID=Europe/Paris:20260426T080000
DTEND;TZID=Europe/Paris:20260426T170000
DTSTAMP:20260425T133913
CREATED:20260125T144936Z
LAST-MODIFIED:20260125T144936Z
UID:10000314-1777190400-1777222800@oise-somme.1000pattes.guide
SUMMARY:Trail des Poères\, Marcelcave (80)
DESCRIPTION:3e édition du Trail des Poères.\nParcours de 8 et 17 km. \nParcours de 8 km pour les marcheurs. \nDépart à 10 h devant la salle des fêtes de Marcelcave. \nRenseignements :  traildespoeres@gmail.com \nInscriptions via Kilkego.
URL:https://oise-somme.1000pattes.guide/event/trail-des-poeres-marcelcave-80-2/
LOCATION:marcelcave
CATEGORIES:Trail ou course nature
END:VEVENT
BEGIN:VEVENT
DTSTART;TZID=Europe/Paris:20260426T080000
DTEND;TZID=Europe/Paris:20260426T170000
DTSTAMP:20260425T133913
CREATED:20260125T145047Z
LAST-MODIFIED:20260125T145047Z
UID:10000315-1777190400-1777222800@oise-somme.1000pattes.guide
SUMMARY:Trail des Muches\, Talmas (80)
DESCRIPTION:Trail des Muches\, Talmas (80)\nL’association sports et loisirs de Talmas organise ses trails. \nDépart à 9h30 pour un trail de 18km. \n10h30\, trail de 6 km \n11h30\, courses enfants \nRenseignements : guillaumehoullier@hotmail.fr
URL:https://oise-somme.1000pattes.guide/event/trail-des-muches-talmas-80/
LOCATION:Talmas
CATEGORIES:Trail ou course nature
END:VEVENT
BEGIN:VEVENT
DTSTART;VALUE=DATE:20260501
DTEND;VALUE=DATE:20260502
DTSTAMP:20260425T133913
CREATED:20260227T121704Z
LAST-MODIFIED:20260227T121704Z
UID:10000316-1777593600-1777679999@oise-somme.1000pattes.guide
SUMMARY:Envolée nordique\, Amiens (80)
DESCRIPTION:L’Amiens UC athlétisme organise une journée dédiée à la marche nordique ouvert à tous. \nCourse inscrite au challenge régional. \nRenseignements : auc.athletisme@wanadoo.fr
URL:https://oise-somme.1000pattes.guide/event/envolee-nordique-amiens-80/
LOCATION:Amiens
CATEGORIES:Marche
END:VEVENT
BEGIN:VEVENT
DTSTART;VALUE=DATE:20260503
DTEND;VALUE=DATE:20260504
DTSTAMP:20260425T133913
CREATED:20260227T121757Z
LAST-MODIFIED:20260227T121757Z
UID:10000317-1777766400-1777852799@oise-somme.1000pattes.guide
SUMMARY:La course du Château de Troissereux (60) 
DESCRIPTION:Cette course de 10 km sur le territoire de la commune partira du Château à 10h. Renseignements au 06.99.18.14.43.
URL:https://oise-somme.1000pattes.guide/event/la-course-du-chateau-de-troissereux-60/
LOCATION:Troissereux
CATEGORIES:Course sur route
END:VEVENT
BEGIN:VEVENT
DTSTART;VALUE=DATE:20260503
DTEND;VALUE=DATE:20260504
DTSTAMP:20260425T133913
CREATED:20260227T121846Z
LAST-MODIFIED:20260227T121846Z
UID:10000318-1777766400-1777852799@oise-somme.1000pattes.guide
SUMMARY:La course des 4 saisons\, printemps\, Amiens (80)
DESCRIPTION:Courses sur route de 5 km et de 10 km sur un parcours plat dans le Parc du Grand Marais et sur les berges de la Somme. Mesurage officiel. Challenge de la route 80. Plus d’infos sur le site valdesomme.fr et renseignements au 06.21.95.17.02.
URL:https://oise-somme.1000pattes.guide/event/la-course-des-4-saisons-printemps-amiens-80/
LOCATION:Amiens
CATEGORIES:Course sur route
END:VEVENT
BEGIN:VEVENT
DTSTART;VALUE=DATE:20260503
DTEND;VALUE=DATE:20260504
DTSTAMP:20260425T133913
CREATED:20260227T122153Z
LAST-MODIFIED:20260227T122153Z
UID:10000319-1777766400-1777852799@oise-somme.1000pattes.guide
SUMMARY:Trail des gros chênes\, Loeuilly (80)
DESCRIPTION:Trails de 25 km et de 11 km. Parcours boisé très vallonné à 90 % sur bois et chemins. Renseignements au 06.82.01.83.86.
URL:https://oise-somme.1000pattes.guide/event/trail-des-gros-chenes-loeuilly-80-2/
LOCATION:Loeuilly
END:VEVENT
BEGIN:VEVENT
DTSTART;VALUE=DATE:20260503
DTEND;VALUE=DATE:20260504
DTSTAMP:20260425T133913
CREATED:20260227T122247Z
LAST-MODIFIED:20260227T122247Z
UID:10000320-1777766400-1777852799@oise-somme.1000pattes.guide
SUMMARY:Trail des Gueux de Folleville (80)
DESCRIPTION:C’est un évènement à part entière\, un voyage dans le temps dans une ambiance médiévale. Trails de 9 km\, 15 km et 25 km. Une animation gratuite jeux picards pour occuper les enfants pendant les courses adultes. Tombola et vente de parts de gâteaux au profit des écoles.
URL:https://oise-somme.1000pattes.guide/event/trail-des-gueux-de-folleville-80/
LOCATION:Folleville
CATEGORIES:Trail ou course nature
END:VEVENT
BEGIN:VEVENT
DTSTART;TZID=Europe/Paris:20260509T100000
DTEND;TZID=Europe/Paris:20260510T100000
DTSTAMP:20260425T133913
CREATED:20260227T122358Z
LAST-MODIFIED:20260227T122358Z
UID:10000321-1778320800-1778407200@oise-somme.1000pattes.guide
SUMMARY:24heures non-stop d’Eppeville (80)
DESCRIPTION:39ème édition des 24h d’Eppeville. Remise des dossards à 8h\, pas d’inscription sur place. Au programme : Course de 24 Heures en solo (label bronze FFA) ou relais – Course de 12 Heures en solo ou relais – Course de 6 Heures en solo ou relais – Course de 3 Heures en solo ou relais – Courses de 5 km et de 10 km. Boucle plate d’1\,35 km en ville (barriérée et sécurisée) passage à chaque tour dans la salle des sports où se font les pointages. Ravitaillement de l’organisation (ravitaillement personnel autorisé à déposer avant le départ à l’endroit exigé). Label régional pour le 24 heures non-stop. Renseignements au 03.23.09.13.49.
URL:https://oise-somme.1000pattes.guide/event/24heures-non-stop-deppeville-80/
LOCATION:Eppeville
CATEGORIES:Course sur route
END:VEVENT
BEGIN:VEVENT
DTSTART;VALUE=DATE:20260510
DTEND;VALUE=DATE:20260511
DTSTAMP:20260425T133913
CREATED:20260227T122458Z
LAST-MODIFIED:20260227T122458Z
UID:10000322-1778371200-1778457599@oise-somme.1000pattes.guide
SUMMARY:Trail des Fresnoy\, Grandfresnoy (60)
DESCRIPTION:L’association sportive Run and Bike des Fresnoy donne rendez-vous pour la cinquième édition du trail des Fresnoy. \n9 h 45\, départ du grand trail (13 km). 10 h 14\, départ du petit trail (7 km). \nMarche de 10 km\, départ à 10 h 20. \nCourses enfants à 12 h 15. \nRendez-vous à la chapelle Sainte Catherine de Grandfresnoy. \nInscriptions via Adeorun.
URL:https://oise-somme.1000pattes.guide/event/trail-des-fresnoy-grandfresnoy-60-2/
LOCATION:Grandfresnoy
CATEGORIES:Trail ou course nature
END:VEVENT
BEGIN:VEVENT
DTSTART;VALUE=DATE:20260510
DTEND;VALUE=DATE:20260511
DTSTAMP:20260425T133913
CREATED:20260227T122537Z
LAST-MODIFIED:20260227T122537Z
UID:10000323-1778371200-1778457599@oise-somme.1000pattes.guide
SUMMARY:La Carolus\, Heilly (80)
DESCRIPTION:Départ à Heilly pour un Trail de 5km (la Carolus) à 10h30 ou un Trail de 17km (la Carolus Magnus) à 10h20. Des marches partiront à 10h30 pour 5 ou 10km. \nCourses enfants \nInscriptions sur Klikego \nTarifs libre\, au profit de l’association grandir sans cancer \nRavitaillement pour tous
URL:https://oise-somme.1000pattes.guide/event/la-carolus-heilly-80-2/
LOCATION:Heilly
CATEGORIES:Course sur route
END:VEVENT
BEGIN:VEVENT
DTSTART;TZID=Europe/Paris:20260510T080000
DTEND;TZID=Europe/Paris:20260510T170000
DTSTAMP:20260425T133913
CREATED:20260125T142502Z
LAST-MODIFIED:20260125T142502Z
UID:10000302-1778400000-1778432400@oise-somme.1000pattes.guide
SUMMARY:Trail des Fresnoy à Grandfresnoy (60) 
DESCRIPTION:Au programme : Trail de 13 km\, départ : 09h45 – Trail de 7 km\, départ : 10h15 – Marche de 10 km\, départ à 10h20. Renseignements au 06.62.11.97.50. \nInscriptions
URL:https://oise-somme.1000pattes.guide/event/trail-des-fresnoy-a-grandfresnoy-60/
CATEGORIES:Trail ou course nature
END:VEVENT
BEGIN:VEVENT
DTSTART;VALUE=DATE:20260516
DTEND;VALUE=DATE:20260517
DTSTAMP:20260425T133913
CREATED:20260227T122733Z
LAST-MODIFIED:20260227T122733Z
UID:10000324-1778889600-1778975999@oise-somme.1000pattes.guide
SUMMARY:Les Doullennaises de Doullens (80)
DESCRIPTION:Au programme\, trails de 21 km et 10 km. \n\nCourses adultes:\nChronométrées – départs.\n\n18 h 00 – 10 km solo – Tarif 12.00 €. (250 places maxi)  Dénivelé de +150m – soit 11\,5 km effort – Chemins et sous bois 80% (2010  et avant – à partir de 16-17 ans cadet(te)) \n17 h 30 – 21 km solo – Tarif 18.00 €. (250 places maxi)  Dénivelé de +350m – soit 24\,5 km effort – Chemins et sous bois 90% (2008 et avant – à partir de 18-19 ans junior(e)) \n\nRandonnée: \n\n10 km – depart libre entre 16 h 00 et 17 h 00 – 10 km –   Inscription de 4\,00 € ouverte à tous – (200 places – Pas de classement – Autorisation parentale demandée pour les mineurs à parti de 3 ans.). \n  \n les foulées doullennaises.
URL:https://oise-somme.1000pattes.guide/event/les-doullennaises-de-doullens-80/
LOCATION:doullens
CATEGORIES:Course sur route
END:VEVENT
BEGIN:VEVENT
DTSTART;VALUE=DATE:20260517
DTEND;VALUE=DATE:20260518
DTSTAMP:20260425T133913
CREATED:20260227T122825Z
LAST-MODIFIED:20260227T122825Z
UID:10000325-1778976000-1779062399@oise-somme.1000pattes.guide
SUMMARY:Trail de la ligne rouge de Thiescourt (60)
DESCRIPTION:Le trail de la ligne rouge est organisé en parallèle de l’ultratrail de la ligne rouge. Il s’agit donc d’une course en plaine nature sans obstacles où vous aurez le choix entre trois parcours au départ de la commune. Un de 40 km\, un de 20 km et un de 10 km. Ou bien pour les plus ardus\, vous pouvez également partir sur le parcours de 100 km solo ou en équipe de relais ! Vous partez sur la trace des poilus sur un terrain marqué par la guerre. Vous suivez un GRP en création qui d’ici deux ans permettra pour la première fois de suivre la ligne rouge à pied. Ce parcours est étroitement lié à l’Ultratrail de la 14-18 car ce circuit de grande randonnée a été créé pour cet événement en étroit lien avec les communes traversées. On parle donc toujours des terrains gras qui rappellent les tranchées… Inscription sur adeorun.
URL:https://oise-somme.1000pattes.guide/event/trail-de-la-ligne-rouge-de-thiescourt-60/
LOCATION:Thiescourt
CATEGORIES:Trail ou course nature
END:VEVENT
BEGIN:VEVENT
DTSTART;VALUE=DATE:20260517
DTEND;VALUE=DATE:20260518
DTSTAMP:20260425T133913
CREATED:20260227T122903Z
LAST-MODIFIED:20260227T122903Z
UID:10000326-1778976000-1779062399@oise-somme.1000pattes.guide
SUMMARY:La Lys’Oise\, Lamorlaye (60)
DESCRIPTION:L’association Run In Lys Chantilly organise la troisième édition de La Lys’Oise. Venez découvrir une très belle épreuve dans un environnement exceptionnel alliant la route et la nature. Deux parcours 5 et 10 km pour accueillir tous les passionnés du running en toute simplicité !\nEpreuve ouverte aux handicapé(e)s. Inscriptions via Adeorun
URL:https://oise-somme.1000pattes.guide/event/la-lysoise-lamorlaye-60/
LOCATION:Lamorlaye
CATEGORIES:Course sur route,Trail ou course nature
END:VEVENT
BEGIN:VEVENT
DTSTART;VALUE=DATE:20260517
DTEND;VALUE=DATE:20260518
DTSTAMP:20260425T133913
CREATED:20260227T122936Z
LAST-MODIFIED:20260227T122936Z
UID:10000327-1778976000-1779062399@oise-somme.1000pattes.guide
SUMMARY:La Longacoissienne\, Longueau (80)
DESCRIPTION:Le club « Courir au CHU d’Amiens Picardie » organise des courses de 5 et 10 km dans les rues de Longueau \nMarche nordique. \nDéparts à 15 h devant le parc des sports rue Lucette Bonard. \nRenseignements sur la page Facebook « courir au CHU d’Amiens Picardie » \nInscriptions via Klikego.
URL:https://oise-somme.1000pattes.guide/event/la-longacoissienne-longueau-80-2/
LOCATION:Longueau
END:VEVENT
BEGIN:VEVENT
DTSTART;TZID=Europe/Paris:20260523T080000
DTEND;TZID=Europe/Paris:20260524T170000
DTSTAMP:20260425T133913
CREATED:20260227T123513Z
LAST-MODIFIED:20260227T123513Z
UID:10000328-1779523200-1779642000@oise-somme.1000pattes.guide
SUMMARY:La course des Poilus 24h de Bitry (60)
DESCRIPTION:La course se déroule selon le principe d’une backyard adaptée : les participants doivent réaliser une boucle de 5 km toutes les heures\, sur une durée totale de 24 heures – le départ de chaque boucle a lieu à heure pleine.\n5km et 85 d+ route et trail – départ le samedi à 12h face à la mairie. Epreuve ouverte en solo ou en équipe relais. 50 € par participant. Animation\, restauration et buvette sur place. Renseignements et inscriptions au 06.23.99.30.84 ou lacoursedespoilusbitry@gmail.com
URL:https://oise-somme.1000pattes.guide/event/la-course-des-poilus-24h-de-bitry-60/
LOCATION:Bitry
CATEGORIES:Course sur route
END:VEVENT
BEGIN:VEVENT
DTSTART;VALUE=DATE:20260524
DTEND;VALUE=DATE:20260525
DTSTAMP:20260425T133913
CREATED:20260227T123600Z
LAST-MODIFIED:20260227T123600Z
UID:10000329-1779580800-1779667199@oise-somme.1000pattes.guide
SUMMARY:Ché 10 km Ed’Brouchy de Brouchy (80)
DESCRIPTION:Ché 10 km Ed’Brouchy de Brouchy (80)\nCourse à pied sur route de 5 km et de 10 km. Renseignements au 09.54.88.99.79 ou au 07.68.27.65.54.
URL:https://oise-somme.1000pattes.guide/event/che-10-km-edbrouchy-de-brouchy-80/
LOCATION:Brouchy
CATEGORIES:Course sur route
END:VEVENT
BEGIN:VEVENT
DTSTART;VALUE=DATE:20260530
DTEND;VALUE=DATE:20260531
DTSTAMP:20260425T133913
CREATED:20260227T123805Z
LAST-MODIFIED:20260227T123805Z
UID:10000330-1780099200-1780185599@oise-somme.1000pattes.guide
SUMMARY:L’Hortillonne\, trail Daniel Varlet de Camon (80)
DESCRIPTION:L’Hortillonne\, trail Daniel Varlet de Camon (80)\nTrails de 10 km et de 15 km dans les marais de Camon et Glisy. Renseignements au 06.30.95.24.00.
URL:https://oise-somme.1000pattes.guide/event/lhortillonne-trail-daniel-varlet-de-camon-80/
LOCATION:Camon
END:VEVENT
BEGIN:VEVENT
DTSTART;VALUE=DATE:20260530
DTEND;VALUE=DATE:20260531
DTSTAMP:20260425T133913
CREATED:20260227T123904Z
LAST-MODIFIED:20260227T123904Z
UID:10000331-1780099200-1780185599@oise-somme.1000pattes.guide
SUMMARY:Run In Soissons (02)
DESCRIPTION:Le CRAC Soissons et la ville de Soissons organisent un 5 et un 10 km. \nDéparts à 17h30. \nRenseignements et inscriptions stesyledoux@gmail.com
URL:https://oise-somme.1000pattes.guide/event/run-in-soissons-02/
LOCATION:Soissons
CATEGORIES:Course sur route
END:VEVENT
BEGIN:VEVENT
DTSTART;VALUE=DATE:20260531
DTEND;VALUE=DATE:20260601
DTSTAMP:20260425T133913
CREATED:20260227T124256Z
LAST-MODIFIED:20260227T124256Z
UID:10000332-1780185600-1780271999@oise-somme.1000pattes.guide
SUMMARY:Trail du château de Verneuil-en-Halatte (60)
DESCRIPTION:Entre sentiers forestiers\, passages techniques et vestiges du château\, le trail du château de Verneuil séduit chaque année par la beauté de ses parcours\, la générosité de ses bénévoles et son ravitaillement final légendaire. Un rendez-vous désormais incontournable du trail dans l’Oise !\nTrail 30 km (750 m D+) : Espoirs à Masters : 18 €\, départ à 9h -Trail 15 km (240 m D+) : Juniors à Masters : 14 €\, départ à 10h – Trail 5 km (80 m D+) : Minimes à Masters : 7 € et gratuit pour les minimes\, départ à 9h30 – 1 500 m : Poussins et Benjamins : gratuit – 800 m (Initiation à l’endurance) : École d’Athlétisme : gratuit\, départ à 10h15 – Marche 10 km (180 m D+) : 5 €\, départ à 10h05 – initiation départ à 10h30. Retrouvez toutes les informations sur https://www.trailduchateaudeverneuil.com
URL:https://oise-somme.1000pattes.guide/event/trail-du-chateau-de-verneuil-en-halatte-60/
CATEGORIES:Course sur route,Trail ou course nature
END:VEVENT
BEGIN:VEVENT
DTSTART;VALUE=DATE:20260531
DTEND;VALUE=DATE:20260601
DTSTAMP:20260425T133913
CREATED:20260227T124334Z
LAST-MODIFIED:20260227T124334Z
UID:10000333-1780185600-1780271999@oise-somme.1000pattes.guide
SUMMARY:Trail du Liger à Saint-Aubin-Rivière (80)
DESCRIPTION:L’équipe des bénévoles de l’Association Liger Sport Nature se mobilise de nouveau pour organiser le trail du Liger : trails de 11 km\, de 22 km et de 32 km. Plus de renseignements sur le site internet trailduliger.fr et renseignements au 06.22.78.28.50.
URL:https://oise-somme.1000pattes.guide/event/trail-du-liger-a-saint-aubin-riviere-80/
LOCATION:Saint-Aubin
CATEGORIES:Trail ou course nature
END:VEVENT
BEGIN:VEVENT
DTSTART;VALUE=DATE:20260606
DTEND;VALUE=DATE:20260607
DTSTAMP:20260425T133913
CREATED:20260227T124558Z
LAST-MODIFIED:20260227T124558Z
UID:10000334-1780704000-1780790399@oise-somme.1000pattes.guide
SUMMARY:Foulées de l’Ardente à Vineuil-Saint-Firmin (60)
DESCRIPTION:Foulées de l’Ardente à Vineuil-Saint-Firmin (60)\nAu programme de la 38ème édition : Courses de 18 km\, de 11 km et de 5 km à partir de 16h – Course jeunes de 1\,5 km et randonnée de 10 km également. Une course conviviale et gourmande. Renseignements au 03.60.46.13.83 ou au 06.20.51.00.66.
URL:https://oise-somme.1000pattes.guide/event/foulees-de-lardente-a-vineuil-saint-firmin-60/
LOCATION:Vineuil
END:VEVENT
BEGIN:VEVENT
DTSTART;VALUE=DATE:20260606
DTEND;VALUE=DATE:20260607
DTSTAMP:20260425T133913
CREATED:20260227T124639Z
LAST-MODIFIED:20260227T124639Z
UID:10000335-1780704000-1780790399@oise-somme.1000pattes.guide
SUMMARY:Les foulées de la rue à Beauvais (60)
DESCRIPTION:Au programme de cette 23ème édition deux distances : 9\,9 Km et 5 Km\, départ simultané à 20h. Cadet à vétérans. Course très animée dans les rues du centre-ville de Beauvais. Ravitaillement\, consigne pour petits sacs\, parking vélo. Récompenses : scratch pour les deux courses (H&F) et premiers de chaque catégorie (H&F).\nCette année : un challenge mère-fille sera organisé\, trois premiers binômes récompensés sur les deux distances.\nRenseignements au 06.07.24.61.34.
URL:https://oise-somme.1000pattes.guide/event/les-foulees-de-la-rue-a-beauvais-60/
LOCATION:Beauvais
CATEGORIES:Course sur route
END:VEVENT
BEGIN:VEVENT
DTSTART;TZID=Europe/Paris:20260606T080000
DTEND;TZID=Europe/Paris:20260607T170000
DTSTAMP:20260425T133913
CREATED:20260227T125311Z
LAST-MODIFIED:20260227T125311Z
UID:10000336-1780732800-1780851600@oise-somme.1000pattes.guide
SUMMARY:Festival multisport et triathlon de Chantilly (60)
DESCRIPTION:Rendez-vous au Château de Chantilly pour cet évènement. Triathlon : Le Condé Sprint Plus Tri – 800 m / 40 km / 8 km – Relais en équipe Le Condé – 800 m / 40 km / 8 km – Sprint Tri – 750 m / 20 km / 5 km – Relais en équipe Sprint – 750 m / 20 km / 5 km – Le Louis XV Super Sprint Tri – 400 m / 20 km / 4 km – Relais en équipe Le Louis XV – 400 m / 20 km / 4 km – Découverte Starter Tri – 200 m / 11 km / 2\,5 km – Relais en équipe Découverte – 200 m / 11 km / 2\,5 km – Enfants 13-15ans Panthère Rose – 300 m / 4 km / 1\,8 km – Enfants 11-12ans Panthère Rose – 200 m / 4 km / 1\,3 km – Enfants 8-10ans Panthère Rose – 100 m / 2 km / 1\,3 km – Relais en équipe Enfants 8-15 ans\, Panthère Rose.
URL:https://oise-somme.1000pattes.guide/event/festival-multisport-et-triathlon-de-chantilly-60/
LOCATION:Chantilly
CATEGORIES:Triathlon
END:VEVENT
END:VCALENDAR