BEGIN:VCALENDAR
VERSION:2.0
PRODID:-// - ECPv6.2.8.1//NONSGML v1.0//EN
CALSCALE:GREGORIAN
METHOD:PUBLISH
X-ORIGINAL-URL:https://oise-somme.1000pattes.guide
X-WR-CALDESC:évènements pour 
REFRESH-INTERVAL;VALUE=DURATION:PT1H
X-Robots-Tag:noindex
X-PUBLISHED-TTL:PT1H
BEGIN:VTIMEZONE
TZID:Europe/Paris
BEGIN:DAYLIGHT
TZOFFSETFROM:+0100
TZOFFSETTO:+0200
TZNAME:CEST
DTSTART:20260329T010000
END:DAYLIGHT
BEGIN:STANDARD
TZOFFSETFROM:+0200
TZOFFSETTO:+0100
TZNAME:CET
DTSTART:20261025T010000
END:STANDARD
END:VTIMEZONE
BEGIN:VEVENT
DTSTART;VALUE=DATE:20260614
DTEND;VALUE=DATE:20260615
DTSTAMP:20260425T182220
CREATED:20260227T131148Z
LAST-MODIFIED:20260227T131148Z
UID:10000346-1781395200-1781481599@oise-somme.1000pattes.guide
SUMMARY:L’acépienne\, Saint-Quentin (02)
DESCRIPTION:L’ACPI Saint-Quentin organise un 5 km en 1 boucle et 10 km en 2 boucles dans le Parc d’Isle et le long du canal de Saint-Quentin. \nDéparts à 9h. \nRenseignements et inscriptions : dubreuild@orange.fr
URL:https://oise-somme.1000pattes.guide/event/lacepienne-saint-quentin-02/
LOCATION:Saint-Quentin
CATEGORIES:Course sur route
END:VEVENT
BEGIN:VEVENT
DTSTART;TZID=Europe/Paris:20260614T080000
DTEND;TZID=Europe/Paris:20260614T170000
DTSTAMP:20260425T182220
CREATED:20260227T130917Z
LAST-MODIFIED:20260227T130917Z
UID:10000344-1781424000-1781456400@oise-somme.1000pattes.guide
SUMMARY:Trail des tortues à Saint-Just-en-Chaussée (60)
DESCRIPTION:Nouveau départ de Saint Just en Chaussée. Parcours sur les chemins du plateau picard. 50% minimum des inscriptions reversé à l’espace ressources cancers « Les rubans de la vie ». La grande tortue\, trail de 15 km D+240m\, 15 € – la petite tortue\, trail de 10 km D+150m\, 10 € – marche sur le parcours de la petite tortue de 10 km\, 8 €. Départs à 9h30. Inscription sur adeorun.
URL:https://oise-somme.1000pattes.guide/event/trail-des-tortues-a-saint-just-en-chaussee-60/
LOCATION:Saint-Just
END:VEVENT
BEGIN:VEVENT
DTSTART;VALUE=DATE:20260619
DTEND;VALUE=DATE:20260620
DTSTAMP:20260425T182220
CREATED:20260227T131311Z
LAST-MODIFIED:20260227T131311Z
UID:10000347-1781827200-1781913599@oise-somme.1000pattes.guide
SUMMARY:Corrida de Pascale de Péronne (80)
DESCRIPTION:La corrida de Pascale  est une épreuve de course à pied organisée par l’Office Municipal des Sports de Péronne et le Péronne Athlétisme Club avec le concours des 24 heures d’Eppeville et de la ville de Péronne. Courses de 10 km et de 3 km.Challenge de la route 80.\nPopulaire\, conviviale\, avec de nombreuses récompenses pour tous\, cette édition tant attendue compte sur votre participation. Attention pas d’inscription sur place. Renseignements au 06.80.82.15.82.
URL:https://oise-somme.1000pattes.guide/event/corrida-de-pascale-de-peronne-80/
CATEGORIES:Course sur route
END:VEVENT
BEGIN:VEVENT
DTSTART;VALUE=DATE:20260621
DTEND;VALUE=DATE:20260622
DTSTAMP:20260425T182220
CREATED:20260227T131409Z
LAST-MODIFIED:20260227T131409Z
UID:10000348-1782000000-1782086399@oise-somme.1000pattes.guide
SUMMARY:Trail des Evoissons de Guizancourt (80) 
DESCRIPTION:Au programme : La Preuse\, trail de 50 km / 1650mD+ – L’Archemont\, trail de 20 km / 700mD+ – Le Relais 9 km + 20 km – Courses enfants de 1\, 2 ou 3 tours (0\,5\, 1 et 2 km) avec une petite montée sur la célèbre colline de Guizancourt.
URL:https://oise-somme.1000pattes.guide/event/trail-des-evoissons-de-guizancourt-80/
LOCATION:Guizancourt
CATEGORIES:Trail ou course nature
END:VEVENT
BEGIN:VEVENT
DTSTART;VALUE=DATE:20260621
DTEND;VALUE=DATE:20260622
DTSTAMP:20260425T182220
CREATED:20260227T131514Z
LAST-MODIFIED:20260227T131514Z
UID:10000349-1782000000-1782086399@oise-somme.1000pattes.guide
SUMMARY:La Carolipontoise\, Carlepont (60)
DESCRIPTION:2 Parcours de course nature\, départ commun en fanfare depuis le stade vers le départ officiel au pied du parc de l’ancien château !!! \nCourse de 7km et 15km \nRenseignements ententeloisirscarlepont@gmail.com
URL:https://oise-somme.1000pattes.guide/event/la-carolipontoise-carlepont-60/
LOCATION:Carlepont
CATEGORIES:Course sur route
END:VEVENT
BEGIN:VEVENT
DTSTART;VALUE=DATE:20260621
DTEND;VALUE=DATE:20260622
DTSTAMP:20260425T182220
CREATED:20260227T131710Z
LAST-MODIFIED:20260227T131710Z
UID:10000350-1782000000-1782086399@oise-somme.1000pattes.guide
SUMMARY:Trail du Bois des côtes\, Bailleval (60)
DESCRIPTION:Courses enfants \nRandonnée de 10 km (départ à 8 h 05) \nTrail de 43 km (départ à 8 h) \nTrail de 27 km (départ à 8 h 30) \nTrail de 17 km (départ à 10 h) \nVestiaires\, parkings et massages. \nRenseignements www.facebook.com/trailduboisdescotes/ \nInscriptions via Adeorun
URL:https://oise-somme.1000pattes.guide/event/trail-du-bois-des-cotes-bailleval-60-2/
LOCATION:Bailleval
CATEGORIES:Trail ou course nature
END:VEVENT
BEGIN:VEVENT
DTSTART;VALUE=DATE:20260628
DTEND;VALUE=DATE:20260629
DTSTAMP:20260425T182220
CREATED:20260227T131817Z
LAST-MODIFIED:20260227T131817Z
UID:10000351-1782604800-1782691199@oise-somme.1000pattes.guide
SUMMARY:Courir la Jules-Verne\, Amiens (80)
DESCRIPTION:Course dans le centre-ville d’Amiens. \nAnimations jeunes et enfants. \nCourses de 5 et de 10 km \nRenseignements et inscriptions www.courirlajulesverne.com/
URL:https://oise-somme.1000pattes.guide/event/courir-la-jules-verne-amiens-80-2/
LOCATION:Amiens
CATEGORIES:Course sur route
END:VEVENT
BEGIN:VEVENT
DTSTART;TZID=Europe/Paris:20260701T080000
DTEND;TZID=Europe/Paris:20260705T170000
DTSTAMP:20260425T182220
CREATED:20260227T132130Z
LAST-MODIFIED:20260227T132130Z
UID:10000352-1782892800-1783270800@oise-somme.1000pattes.guide
SUMMARY:Ultrabaie en Baie de Somme (80) 
DESCRIPTION:– 1er juillet\, Ultrabaie\, Fonsomme (02) : Grande nouveauté de l’édition 2026. Une course de la source de la Somme à l’embouchure. 225 km en 5 jours\, soit en moyenne 45 km par jour (de 36 à 55 km par jour)\, chemins à 80%\, en équipe de 2 ou 3. Bivouacs la nuit. Petits-déjeuners et dîners organisés. Épreuve réservée aux habitués des longues distance. Informations et inscriptions ultrabaie.com\n– 3 juillet\, Ultrabaie\, Saint-Valery-sur-Somme (80) : Courses enfants. Départ à Saint-Valery-sur-Somme à 10h face à l’entrepôt des sels.\n– 4 juillet\, Ultrabaie Saint-Valery-sur-Somme (80) : Courses pour tous\, pas de barrière horaire. Départ de Saint-Valery-sur-Somme à 11h. Seul ou accompagné d’un enfant ou d’un adulte\, avec ou sans handicap.UB14\, départ du Cortoy à 16h jusque Saint-Valery-sur-Somme.Informations et inscriptions ultrabaie.com\n– 5 juillet\, Ultrabaie\, Saint-Valery-sur-Somme (80) : Trois courses différentes. L’UB19 de Saint-Valery au Hourdel (aller-retour\, départ à 6 h 30). UB34 de Saint-Valery à Cayeux-sur-Mer (aller-retour\, départ à 6 h). UB70 de Saint-Valery à Mers-les-Bains (aller retour\, départ à 5 h 30) seul ou en relais. Ravitaillements sur place. Départs face à l’entrepôt des sels. Village animation sur le parking du port de plaisance. Informations et inscriptions : ultrabaie.com
URL:https://oise-somme.1000pattes.guide/event/ultrabaie-en-baie-de-somme-80/
LOCATION:Saint-Valery-sur-Somme
CATEGORIES:Trail ou course nature
ATTACH;FMTTYPE=image/jpeg:https://oise-somme.1000pattes.guide/wp-content/uploads/sites/4/2025/03/Baie1.jpg
END:VEVENT
BEGIN:VEVENT
DTSTART;VALUE=DATE:20260705
DTEND;VALUE=DATE:20260706
DTSTAMP:20260425T182220
CREATED:20260227T132319Z
LAST-MODIFIED:20260227T132319Z
UID:10000353-1783209600-1783295999@oise-somme.1000pattes.guide
SUMMARY:Les 4 saisons de l’été d’Amiens (80)
DESCRIPTION:Courses sur route de 5 km et de 10 km. Courses mesurées. Challenge de la route 80. Plus d’infos sur le site valdesomme.fr
URL:https://oise-somme.1000pattes.guide/event/les-4-saisons-de-lete-damiens-80/
LOCATION:Amiens
CATEGORIES:Course sur route
END:VEVENT
BEGIN:VEVENT
DTSTART;TZID=Europe/Paris:20260712T080000
DTEND;TZID=Europe/Paris:20260712T170000
DTSTAMP:20260425T182220
CREATED:20260227T132403Z
LAST-MODIFIED:20260227T132403Z
UID:10000354-1783843200-1783875600@oise-somme.1000pattes.guide
SUMMARY:Circuit du château fort de Picquigny (80)
DESCRIPTION:Course de 8\,8 km (4 tours). Départ à 19h. Renseignements au 06.85.61.56.12.
URL:https://oise-somme.1000pattes.guide/event/circuit-du-chateau-fort-de-picquigny-80/
LOCATION:Picquigny
CATEGORIES:Course sur route
END:VEVENT
BEGIN:VEVENT
DTSTART;VALUE=DATE:20260725
DTEND;VALUE=DATE:20260726
DTSTAMP:20260425T182220
CREATED:20260227T132526Z
LAST-MODIFIED:20260227T132526Z
UID:10000355-1784937600-1785023999@oise-somme.1000pattes.guide
SUMMARY:L’orignaquoise\, Origny-Sainte-Benoite (02)
DESCRIPTION:Course de 10 km organisée par le running club orignaquoi. \nUne petite boucle et trois grandes boucles. Parcours plat propice a la performance\, empruntant les rues du Poilu\, de la Folie\, Albert Routier\, Jean Jaurès\, Saint Louis\, du Calvois\, du Tordoir\, de l’Église. \nRenseignements et inscriptions :jfrancoispanico@aol.com
URL:https://oise-somme.1000pattes.guide/event/lorignaquoise-origny-sainte-benoite-02/
LOCATION:Origny-Sainte-Benoite
CATEGORIES:Course sur route
END:VEVENT
BEGIN:VEVENT
DTSTART;VALUE=DATE:20260801
DTEND;VALUE=DATE:20260802
DTSTAMP:20260425T182220
CREATED:20260227T132904Z
LAST-MODIFIED:20260227T132904Z
UID:10000356-1785542400-1785628799@oise-somme.1000pattes.guide
SUMMARY:Les boucles rubempréennes à Rubempré (80)
DESCRIPTION:Courses sur route mesurées de 5 km avec un départ à 17h et de 10 km avec un départ à 18h. Label : départemental pour les courses. Renseignements au 06.46.45.23.68 ou au 07.60.24.01.04.
URL:https://oise-somme.1000pattes.guide/event/les-boucles-rubempreennes-a-rubempre-80/
LOCATION:Rubempré
CATEGORIES:Course sur route
END:VEVENT
BEGIN:VEVENT
DTSTART;TZID=Europe/Paris:20260830T080000
DTEND;TZID=Europe/Paris:20260830T170000
DTSTAMP:20260425T182220
CREATED:20260227T132941Z
LAST-MODIFIED:20260227T132941Z
UID:10000357-1788076800-1788109200@oise-somme.1000pattes.guide
SUMMARY:Foulées cutsoises à Cuts (60)
DESCRIPTION:Au programme de la  36ème édition des foulées cutsoises : Trail de 4\,5 km et de 10 km – Marche de 4\,5 km et de 10 km. Renseignements au 06.62.43.49.51.
URL:https://oise-somme.1000pattes.guide/event/foulees-cutsoises-a-cuts-60/
LOCATION:Cuts
CATEGORIES:Course sur route
END:VEVENT
BEGIN:VEVENT
DTSTART;TZID=Europe/Paris:20260830T080000
DTEND;TZID=Europe/Paris:20260830T170000
DTSTAMP:20260425T182220
CREATED:20260227T133018Z
LAST-MODIFIED:20260227T133018Z
UID:10000358-1788076800-1788109200@oise-somme.1000pattes.guide
SUMMARY:La Cro Magnon à Drucat (80)
DESCRIPTION:Courses nature de 16 km ou 8 km\, 90 % de chemins et sentiers forestiers. Marche de 10 km. Egalement courses pour jeunes. Renseignements au 06.72.15.71.73.
URL:https://oise-somme.1000pattes.guide/event/la-cro-magnon-a-drucat-80/
LOCATION:Drucat
CATEGORIES:Trail ou course nature
END:VEVENT
BEGIN:VEVENT
DTSTART;VALUE=DATE:20260913
DTEND;VALUE=DATE:20260914
DTSTAMP:20260425T182220
CREATED:20260227T133057Z
LAST-MODIFIED:20260227T133057Z
UID:10000359-1789257600-1789343999@oise-somme.1000pattes.guide
SUMMARY:Semi-marathon du Val d’Ancre à Albert (80)
DESCRIPTION:Semi-marathon\, départ à 9h – trail de 19 km\, départ à 9h15. Renseignements au 06.46.17.50.61.
URL:https://oise-somme.1000pattes.guide/event/semi-marathon-du-val-dancre-a-albert-80/
LOCATION:Albert
CATEGORIES:Course sur route
END:VEVENT
BEGIN:VEVENT
DTSTART;VALUE=DATE:20260913
DTEND;VALUE=DATE:20260914
DTSTAMP:20260425T182220
CREATED:20260227T133319Z
LAST-MODIFIED:20260227T133319Z
UID:10000361-1789257600-1789343999@oise-somme.1000pattes.guide
SUMMARY:Frappadingue\, Beauvais (60)
DESCRIPTION:Format S : 5 à 6 km. 15 obstacles \nFormat L : 10 km : 40 obstacles \nRendez-vous place Jeanne-Hachette \nDépart de la première vague à 9 h 30. Puis départ toutes les 15 minutes jusqu’à 13 h 30. \nhttps://www.frappadingue.net \nConsignes et douches sur place.
URL:https://oise-somme.1000pattes.guide/event/frappadingue-beauvais-60-3/
LOCATION:Beauvais
CATEGORIES:Course à obstacles
END:VEVENT
BEGIN:VEVENT
DTSTART;TZID=Europe/Paris:20260913T080000
DTEND;TZID=Europe/Paris:20260913T170000
DTSTAMP:20260425T182220
CREATED:20260227T133131Z
LAST-MODIFIED:20260227T133131Z
UID:10000360-1789286400-1789318800@oise-somme.1000pattes.guide
SUMMARY:Trail de la bataille d’Abbeville (80)
DESCRIPTION:Trail de la bataille d’Abbeville (80)\nSur les traces de la bataille d’Abbeville (80) \nDéparts et arrivées de l’hippodrome d’Abbeville pour un trail de 12 ou de 20 km. \nCourses enfants. \nDéparts à 9 h. \nRenseignements www.couriretmarcherabbeville-caaclub.fr \nInscriptions via Adeorun \nLabel FFA.
URL:https://oise-somme.1000pattes.guide/event/trail-de-la-bataille-dabbeville-80-2/
LOCATION:Abbeville
END:VEVENT
BEGIN:VEVENT
DTSTART;VALUE=DATE:20260919
DTEND;VALUE=DATE:20260920
DTSTAMP:20260425T182220
CREATED:20260227T133408Z
LAST-MODIFIED:20260227T133408Z
UID:10000362-1789776000-1789862399@oise-somme.1000pattes.guide
SUMMARY:La poyaise\, Poix-de-Picardie (80)
DESCRIPTION:La poyaise\, Poix-de-Picardie (80)\nAu départ de la place de la République de Poix-de-Picardie\, une marche de 5 km ou de 10 km (départs à 13 h 30). \nUne course de 5 ou de 10 km (départs respectifs à 15 h et 14 h 30). \nLes profits sont reversés à la ligue contre le cancer. \nRenseignements et inscriptions : https://lapoyaise.jimdofree.com/
URL:https://oise-somme.1000pattes.guide/event/la-poyaise-poix-de-picardie-80-2/
LOCATION:Poix de Picardie
CATEGORIES:Course sur route
END:VEVENT
BEGIN:VEVENT
DTSTART;TZID=Europe/Paris:20260920T080000
DTEND;TZID=Europe/Paris:20260920T170000
DTSTAMP:20260425T182220
CREATED:20260227T133450Z
LAST-MODIFIED:20260227T133450Z
UID:10000363-1789891200-1789923600@oise-somme.1000pattes.guide
SUMMARY:L’Orrygeoise d’Orry-la-Ville (60)
DESCRIPTION:Les organisateurs de l’Orrygeoise vous propose leur troisieme Maratrail du sud de l’Oise avec différents formats : le solo : 42\,195 km en une boucle avec un dénivelé positif de 420 m D+ – le relais duo : 2 x 21 km (équipe hommes\, femmes ou mixte).\nLa distance est équivalente à un marathon\, soit 42\,195 km\, mais en nature. Le tout avec un dénivelé positif de 420 m D+. Il empruntera 93% de chemin (terre\, sable\, cailloux\, pavés\, pelouse et piste). Ce parcours vous fera passer devant 4 châteaux : le Château de la Borne Blanche PNR\, le Château de Chantilly\, le Château de la Reine Blanche et le Château d’Hérivaux.\nLes premiers 21 km sont très roulants et faciles\, La deuxième partie 21 km sera plus accidentée. Mais aussi un 21 km en solo\, un 10 km\, un 5 km\, un 2\,5 km\, une marche et une course pour les kids (8/9 ans et 10/11 ans).\nRenseignements au 06.74.34.16.25 ou au 06.71.61.58.59.
URL:https://oise-somme.1000pattes.guide/event/lorrygeoise-dorry-la-ville-60/
LOCATION:Orry-la-ville
CATEGORIES:Trail ou course nature
END:VEVENT
BEGIN:VEVENT
DTSTART;TZID=Europe/Paris:20260920T080000
DTEND;TZID=Europe/Paris:20260920T170000
DTSTAMP:20260425T182220
CREATED:20260227T133534Z
LAST-MODIFIED:20260227T133534Z
UID:10000364-1789891200-1789923600@oise-somme.1000pattes.guide
SUMMARY:5 km d’Amiens Métropole à Amiens (80)
DESCRIPTION:5 km d’Amiens Métropole à Amiens (80)\nCourse à pied sur route de 5 km et également le mile de 1\,6 km. Label FFA. Renseignements au 06.21.95.17.02.
URL:https://oise-somme.1000pattes.guide/event/5-km-damiens-metropole-a-amiens-80/
LOCATION:Amiens
END:VEVENT
BEGIN:VEVENT
DTSTART;TZID=Europe/Paris:20260926T080000
DTEND;TZID=Europe/Paris:20260926T170000
DTSTAMP:20260425T182220
CREATED:20260227T133604Z
LAST-MODIFIED:20260227T133604Z
UID:10000365-1790409600-1790442000@oise-somme.1000pattes.guide
SUMMARY:Trail de la Moldreuilloise à Molliens-Dreuil (80)
DESCRIPTION:Trail de la Moldreuilloise à Molliens-Dreuil (80)\nTrail sur 5 km\, 9 km et 14 km. Renseignements au 06.83.27.92.13 ou au 07.78.84.38.95.
URL:https://oise-somme.1000pattes.guide/event/trail-de-la-moldreuilloise-a-molliens-dreuil-80/
LOCATION:Molliens-Dreuil
CATEGORIES:Trail ou course nature
END:VEVENT
BEGIN:VEVENT
DTSTART;TZID=Europe/Paris:20260927T080000
DTEND;TZID=Europe/Paris:20260927T170000
DTSTAMP:20260425T182220
CREATED:20260227T133645Z
LAST-MODIFIED:20260227T133645Z
UID:10000366-1790496000-1790528400@oise-somme.1000pattes.guide
SUMMARY:Les virades de l’espoir à Camon (80)
DESCRIPTION:Les virades de l’espoir à Camon (80)\nCourses sur route mesurées de 5 km et de 10 km. Challenge de la route 80. Bénéfices reversés à l’Association Vaincre la Mucoviscidose. Renseignements au 06.30.95.24.00.
URL:https://oise-somme.1000pattes.guide/event/les-virades-de-lespoir-a-camon-80/
LOCATION:Camon
CATEGORIES:Course sur route
END:VEVENT
BEGIN:VEVENT
DTSTART;TZID=Europe/Paris:20260927T080000
DTEND;TZID=Europe/Paris:20260927T170000
DTSTAMP:20260425T182220
CREATED:20260227T133719Z
LAST-MODIFIED:20260227T133719Z
UID:10000367-1790496000-1790528400@oise-somme.1000pattes.guide
SUMMARY:Course des deux châteaux à Compiègne (60)
DESCRIPTION:Course des deux châteaux à Compiègne (60)\nSi tu es un passionné de course à pied et de patrimoine historique\, cette course est le défi parfait !  2 parcours au choix : trail de 11 et 17 km et marche d’environ 15 km.\nRenseignements au 06.82.54.05.65.
URL:https://oise-somme.1000pattes.guide/event/course-des-deux-chateaux-a-compiegne-60/
LOCATION:Compiègne
CATEGORIES:Course sur route
END:VEVENT
BEGIN:VEVENT
DTSTART;VALUE=DATE:20261003
DTEND;VALUE=DATE:20261004
DTSTAMP:20260425T182220
CREATED:20260227T133750Z
LAST-MODIFIED:20260227T133750Z
UID:10000368-1790985600-1791071999@oise-somme.1000pattes.guide
SUMMARY:100 km et marathon de la Somme à Amiens (80)
DESCRIPTION:100 km et marathon de la Somme à Amiens (80)\nAu programme\, course de 100 km du Val de Somme (label FFA)\, semi-marathon (label FFA). Les distances sont mesurées\, courses inscrites au challenge de la route 80. Plus d’infos sur 100kmdelasomme.com
URL:https://oise-somme.1000pattes.guide/event/100-km-et-marathon-de-la-somme-a-amiens-80/
LOCATION:Amiens
CATEGORIES:Course sur route
END:VEVENT
BEGIN:VEVENT
DTSTART;VALUE=DATE:20261003
DTEND;VALUE=DATE:20261004
DTSTAMP:20260425T182220
CREATED:20260227T133854Z
LAST-MODIFIED:20260227T133854Z
UID:10000370-1790985600-1791071999@oise-somme.1000pattes.guide
SUMMARY:La Matelote\, Saint-Valery-sur-Somme (80)
DESCRIPTION:La Matelote\, Saint-Valery-sur-Somme (80)\nDépart à 15 h\, face à la mairie de Saint-Valery-sur-Somme pour un trail de 14 km ou une marche de 7 km (la petite matelote). \nRenseignements sur la page Facebook La Matelote \nInscriptions via Adeorun
URL:https://oise-somme.1000pattes.guide/event/la-matelote-saint-valery-sur-somme-80-2/
LOCATION:Saint-Valery-sur-Somme
CATEGORIES:Trail ou course nature
END:VEVENT
BEGIN:VEVENT
DTSTART;TZID=Europe/Paris:20261003T080000
DTEND;TZID=Europe/Paris:20261003T170000
DTSTAMP:20260425T182220
CREATED:20260227T133817Z
LAST-MODIFIED:20260227T133817Z
UID:10000369-1791014400-1791046800@oise-somme.1000pattes.guide
SUMMARY:Corritrail d’Airaines (80)
DESCRIPTION:Corritrail d’Airaines (80)\nAu programme de cette 7ème édition\, trails de 22 km (320 m D+)\, de 15 km (190 m D+) et de 6 km (30 m D+). Renseignements au 06.79.75.59.83.
URL:https://oise-somme.1000pattes.guide/event/corritrail-dairaines-80/
LOCATION:Airaisnes
CATEGORIES:Trail ou course nature
END:VEVENT
BEGIN:VEVENT
DTSTART;TZID=Europe/Paris:20261025T080000
DTEND;TZID=Europe/Paris:20261025T170000
DTSTAMP:20260425T182220
CREATED:20260227T133926Z
LAST-MODIFIED:20260227T133926Z
UID:10000371-1792915200-1792947600@oise-somme.1000pattes.guide
SUMMARY:Le trail des Sentiers maudits\, Hangest-en-Santerre (80)
DESCRIPTION:Le trail des Sentiers maudits\, Hangest-en-Santerre (80) \nAu départ du stade d’Hangest-en-Santerre\, les coureurs hangestois vous donnent rendez-vous à 19h pour le départ de deux trails de 12 et 23 km. \nRetrait des dossards à partir de 17h. \n1 euro sera reversé à l’association Gustave Rousseau pour Octobre Rose. \nInscriptions sur Adeorun.
URL:https://oise-somme.1000pattes.guide/event/le-trail-des-sentiers-maudits-hangest-en-santerre-80/
LOCATION:hangest en santerre
CATEGORIES:Trail ou course nature
END:VEVENT
BEGIN:VEVENT
DTSTART;VALUE=DATE:20261101
DTEND;VALUE=DATE:20261102
DTSTAMP:20260425T182220
CREATED:20260227T133956Z
LAST-MODIFIED:20260227T133956Z
UID:10000372-1793491200-1793577599@oise-somme.1000pattes.guide
SUMMARY:La Circadienne d’Eppeville (80)
DESCRIPTION:La Circadienne d’Eppeville (80)\nCourse nature campagnarde (1/3 de chaussée et 2/3 de nature). Parcours de 18 km\, de 12 km et de 6 km au choix (départ commun au stade d’Eppeville à 9h30). A partir de cadets/cadettes. Bâtons nordiques\, handicapés fauteuil non admis à cause de la configuration de la partie nature. Renseignements au 06.82.34.36.41.
URL:https://oise-somme.1000pattes.guide/event/la-circadienne-deppeville-80/
LOCATION:Eppeville
CATEGORIES:Course sur route
END:VEVENT
BEGIN:VEVENT
DTSTART;TZID=Europe/Paris:20261107T080000
DTEND;TZID=Europe/Paris:20261107T170000
DTSTAMP:20260425T182220
CREATED:20260227T134032Z
LAST-MODIFIED:20260227T134032Z
UID:10000373-1794038400-1794070800@oise-somme.1000pattes.guide
SUMMARY:Trail sibérien à Feuquières (60)
DESCRIPTION:Trail sibérien à Feuquières (60)\nAu programme : trails de 8 et 19 km\, départ à 17h30 – courses pour les jeunes à partir de 16h – marche de 8 km à 16h40.\nRenseignements au 07.86.86.16.54 ou au 03.44.79.05.27.
URL:https://oise-somme.1000pattes.guide/event/trail-siberien-a-feuquieres-60/
LOCATION:Feuquieres
CATEGORIES:Trail ou course nature
END:VEVENT
BEGIN:VEVENT
DTSTART;TZID=Europe/Paris:20261108T080000
DTEND;TZID=Europe/Paris:20261108T170000
DTSTAMP:20260425T182220
CREATED:20260227T134101Z
LAST-MODIFIED:20260227T134101Z
UID:10000374-1794124800-1794157200@oise-somme.1000pattes.guide
SUMMARY:Finale des 4 saisons d’automne d’Amiens (80)
DESCRIPTION:Finale des 4 saisons d’automne d’Amiens (80)\nCourses sur route de 5 km et de 10 km sur un parcours plat. Label FFA pour toutes les courses. Une seule inscription et un seul tarif pour participer à une ou plusieurs courses. Parcours équipé de chronomètres intermédiaires prédictifs du temps d’arrivée. Challenge de la route 80. Plus d’infos sur le site valdesomme.fr et renseignements au 06.21.95.17.02.
URL:https://oise-somme.1000pattes.guide/event/finale-des-4-saisons-dautomne-damiens-80/
LOCATION:Amiens
CATEGORIES:Course sur route
END:VEVENT
END:VCALENDAR