BEGIN:VCALENDAR
VERSION:2.0
PRODID:-// - ECPv6.2.8.1//NONSGML v1.0//EN
CALSCALE:GREGORIAN
METHOD:PUBLISH
X-ORIGINAL-URL:https://oise-somme.1000pattes.guide
X-WR-CALDESC:évènements pour 
REFRESH-INTERVAL;VALUE=DURATION:PT1H
X-Robots-Tag:noindex
X-PUBLISHED-TTL:PT1H
BEGIN:VTIMEZONE
TZID:Europe/Paris
BEGIN:DAYLIGHT
TZOFFSETFROM:+0100
TZOFFSETTO:+0200
TZNAME:CEST
DTSTART:20250330T010000
END:DAYLIGHT
BEGIN:STANDARD
TZOFFSETFROM:+0200
TZOFFSETTO:+0100
TZNAME:CET
DTSTART:20251026T010000
END:STANDARD
END:VTIMEZONE
BEGIN:VEVENT
DTSTART;TZID=Europe/Paris:20251205T080000
DTEND;TZID=Europe/Paris:20251205T170000
DTSTAMP:20260422T200922
CREATED:20250303T095927Z
LAST-MODIFIED:20250303T095927Z
UID:10000246-1764921600-1764954000@oise-somme.1000pattes.guide
SUMMARY:Ekiden de Villers-Bretonneux\, Villers-Bretonneux (80)
DESCRIPTION:Ekiden de Villers-Bretonneux\, Villers-Bretonneux (80)\nEkiden dans le centre de Villers-Bretonneux dans le cadre du téléthon. \n42km en relais (de six personnes maximum). Des boucles de 1km autour du marché couvert.\nRenseignements : groupe Facebook « Courir à Villers-Bretonneux » \nInscriptions sur place.
URL:https://oise-somme.1000pattes.guide/event/ekiden-de-villers-bretonneux/
LOCATION:villers-bretonneux
CATEGORIES:Course solidaire,Course sur route
END:VEVENT
BEGIN:VEVENT
DTSTART;TZID=Europe/Paris:20251206T173000
DTEND;TZID=Europe/Paris:20251206T173000
DTSTAMP:20260422T200922
CREATED:20250303T100053Z
LAST-MODIFIED:20250303T100053Z
UID:10000247-1765042200-1765042200@oise-somme.1000pattes.guide
SUMMARY:Trail de la Médiévale\, Estrées-les-Crécy (80)
DESCRIPTION:Trail de la Médiévale\, Estrées-les-Crécy (80)\nTrail nocturne de 9\,8 et 15km. Départs et arrivée devant la mairie d’Estrées-les-Crécy. \nDéparts à 17h30 et 17h45. \nMarche nocturne de 8km à 17h30. \n1 euro par dossard reversé à l’association « tous ensemble pour l’avenir de Chloé. » \nLampe frontale obligatoire \nRenseignements : http://la.medievale.over-blog.com/ \nInscriptions sur Adeorun.
URL:https://oise-somme.1000pattes.guide/event/trail-de-la-medievale-estrees-les-crecy-80/
LOCATION:Estrees les Crecy
CATEGORIES:Course solidaire,Course sur route
END:VEVENT
BEGIN:VEVENT
DTSTART;VALUE=DATE:20251207
DTEND;VALUE=DATE:20251208
DTSTAMP:20260422T200922
CREATED:20240213T102834Z
LAST-MODIFIED:20250130T135943Z
UID:10000137-1765065600-1765151999@oise-somme.1000pattes.guide
SUMMARY:BIKE & RUN DE CREIL - Creil (60)
DESCRIPTION:B&R-JE [6-9][10-13] \nB&R-XS ; B&R-S \nInscription : 06 61 36 09 11 \nastrecreilloistriathlon@gmail.com
URL:https://oise-somme.1000pattes.guide/event/bike-run-de-creil-creil-60/
LOCATION:BIKE & RUN DE CREIL\, Creil\, France
CATEGORIES:Triathlon
END:VEVENT
BEGIN:VEVENT
DTSTART;TZID=Europe/Paris:20251207T080000
DTEND;TZID=Europe/Paris:20251207T170000
DTSTAMP:20260422T200922
CREATED:20250303T100149Z
LAST-MODIFIED:20250303T100149Z
UID:10000248-1765094400-1765126800@oise-somme.1000pattes.guide
SUMMARY:Corrida de Boves (80)
DESCRIPTION:Corrida de Boves (80)\nCourse de 5km départ à 15h. \nDépart devant la mairie de Boves. \nLe stationnement peut se faire dans les marais entre la salle de basket et le tennis club. \nInformations :  j.p80@orange.fr \nInscriptions via Kilkego.
URL:https://oise-somme.1000pattes.guide/event/corrida-de-boves-80/
LOCATION:Boves
CATEGORIES:Course sur route
END:VEVENT
BEGIN:VEVENT
DTSTART;TZID=Europe/Paris:20251207T080000
DTEND;TZID=Europe/Paris:20251207T170000
DTSTAMP:20260422T200922
CREATED:20250303T100244Z
LAST-MODIFIED:20250303T100244Z
UID:10000249-1765094400-1765126800@oise-somme.1000pattes.guide
SUMMARY:Hivernale de Milly (60)
DESCRIPTION:Hivernale de Milly (60)\nCourses de 4\,5 et 17 km. Départ depuis le centre de Milly-sur-Thérain à 9 h 45. \nMarche de 9 km\, départ ç 9 h 30. \nRenseignements https://www.acabeauvais.com/ \nInscriptions via Adeorun
URL:https://oise-somme.1000pattes.guide/event/hivernale-de-milly-60/
LOCATION:Milly-sur-Thérain
CATEGORIES:Course sur route
END:VEVENT
BEGIN:VEVENT
DTSTART;TZID=Europe/Paris:20251213T080000
DTEND;TZID=Europe/Paris:20251213T170000
DTSTAMP:20260422T200922
CREATED:20250303T100343Z
LAST-MODIFIED:20250303T100343Z
UID:10000250-1765612800-1765645200@oise-somme.1000pattes.guide
SUMMARY:Orrygeoise Night\, Orry-la-Ville (60)
DESCRIPTION:Orrygeoise Night\, Orry-la-Ville (60)\nDeuxième édition de l’orrygoise Night. \nRendez-vous à 17 h 30 pour le départ du trail de 5 ou 10 km. Lampe frontale obligatoire. \nCourse des lutins à 17 h 10. \nDéparts et arrivées place Anne Lorraine. \nRenseignements : orrygeoise.fr \nInscriptions via Adeorun.
URL:https://oise-somme.1000pattes.guide/event/orrygeoise-night-orry-la-ville-60/
LOCATION:Orry-la-ville
CATEGORIES:Trail ou course nature
END:VEVENT
BEGIN:VEVENT
DTSTART;TZID=Europe/Paris:20251214T080000
DTEND;TZID=Europe/Paris:20251214T170000
DTSTAMP:20260422T200922
CREATED:20250303T100428Z
LAST-MODIFIED:20250303T100428Z
UID:10000251-1765699200-1765731600@oise-somme.1000pattes.guide
SUMMARY:Cross du pont d’Allemagne\, Eppeville (80)
DESCRIPTION:Cross du pont d’Allemagne\, Eppeville (80)\nRendez-vous organise par les 24 h non stop d’Eppeville sur le site du pont d’Allemagne (le long de la RD 930 entre Hombleux et Eppeville). \nInscriptions sur place à partir de 13 h.\nMini boucles pour les enfants à partir de 14 h. \nPetites boucles (1 km) pour les jeunes à partir de 14 h 20. \nGrandes boucles (2\,5 km) pour les adultes à partir de 15 h. \nPointes conseillées \nInscriptions possibles sur Klikego.
URL:https://oise-somme.1000pattes.guide/event/cross-du-pont-dallemagne-eppeville-80-2/
LOCATION:Eppeville
CATEGORIES:Trail ou course nature
END:VEVENT
BEGIN:VEVENT
DTSTART;TZID=Europe/Paris:20251214T080000
DTEND;TZID=Europe/Paris:20251214T170000
DTSTAMP:20260422T200922
CREATED:20250303T100509Z
LAST-MODIFIED:20250303T100509Z
UID:10000252-1765699200-1765731600@oise-somme.1000pattes.guide
SUMMARY:Corrida de Tillé (60)
DESCRIPTION:Corrida de Tillé (60)\nOrganisée en partenariat entre la mairie et les Sapeurs-Pompiers de Tillé\, la Corrida revient pour une deuxième édition. \nDeux parcours (5 Km et 10 Km) sont prévus pour les adultes (à partir de 13 ans) dans les rues de Tillé pour un départ à 9h30. \nUne course des lutins est organisée à 11h pour les enfants âgés de 3 à 13 ans. \nInscriptions sur Adeorun
URL:https://oise-somme.1000pattes.guide/event/corrida-de-tille-60/
LOCATION:Tillé
CATEGORIES:Course sur route
END:VEVENT
BEGIN:VEVENT
DTSTART;TZID=Europe/Paris:20251219T080000
DTEND;TZID=Europe/Paris:20251219T170000
DTSTAMP:20260422T200922
CREATED:20250303T100606Z
LAST-MODIFIED:20250303T100606Z
UID:10000253-1766131200-1766163600@oise-somme.1000pattes.guide
SUMMARY:Corrida de Ham (80)
DESCRIPTION:Corrida de Ham \nOrganisée par le service temps libre de la ville de Ham. \nRendez-vous devant la mairie de Ham pour un parcours dans le centre-ville. \nCourses enfants à 19h30. \nCourse féminine ( 3\,2km) à 20h15. \nCourse des As (6\,4km) à 20h40. \nRenseignements en mairie \nInscriptions sur place à partir de 18h.
URL:https://oise-somme.1000pattes.guide/event/corrida-de-ham-80/
LOCATION:Ham
CATEGORIES:Course sur route
END:VEVENT
BEGIN:VEVENT
DTSTART;TZID=Europe/Paris:20251221T080000
DTEND;TZID=Europe/Paris:20251221T170000
DTSTAMP:20260422T200922
CREATED:20250303T100702Z
LAST-MODIFIED:20250303T100702Z
UID:10000254-1766304000-1766336400@oise-somme.1000pattes.guide
SUMMARY:Corrida de Noël\, Abbeville (80)
DESCRIPTION:Corrida de Noël\, Abbeville (80)\nCourses enfants à 14h. \nCourse de 5km\, départ à 14h30. Deux boucles de 2\,5km dans le centre d’Abbeville. \nRécompense au plus beau déguisement. \nParking et douches sur place. \nRenseignements : https://runningrca.wixsite.com/rca80 \nInscriptions sur courses80.com
URL:https://oise-somme.1000pattes.guide/event/corrida-de-noel-abbeville-80/
LOCATION:Abbeville
CATEGORIES:Course sur route
END:VEVENT
BEGIN:VEVENT
DTSTART;TZID=Europe/Paris:20251227T080000
DTEND;TZID=Europe/Paris:20251227T170000
DTSTAMP:20260422T200922
CREATED:20250303T100733Z
LAST-MODIFIED:20250303T100733Z
UID:10000255-1766822400-1766854800@oise-somme.1000pattes.guide
SUMMARY:Corrida de Friville-Escarbotin (80)
DESCRIPTION:Corrida de Friville-Escarbotin (80)\nCourse dans la ville de 7 km (trois boucles). Départ à 18 h pour les enfants. 19 h pour les adultes. \nRenseignements acfriville@orange.fr \nInscriptions sur sport-up.fr
URL:https://oise-somme.1000pattes.guide/event/corrida-de-friville-escarbotin-80/
CATEGORIES:Course sur route
END:VEVENT
END:VCALENDAR