BEGIN:VCALENDAR
VERSION:2.0
PRODID:-// - ECPv6.2.8.1//NONSGML v1.0//EN
CALSCALE:GREGORIAN
METHOD:PUBLISH
X-ORIGINAL-URL:https://oise-somme.1000pattes.guide
X-WR-CALDESC:évènements pour 
REFRESH-INTERVAL;VALUE=DURATION:PT1H
X-Robots-Tag:noindex
X-PUBLISHED-TTL:PT1H
BEGIN:VTIMEZONE
TZID:Europe/Paris
BEGIN:DAYLIGHT
TZOFFSETFROM:+0100
TZOFFSETTO:+0200
TZNAME:CEST
DTSTART:20260329T010000
END:DAYLIGHT
BEGIN:STANDARD
TZOFFSETFROM:+0200
TZOFFSETTO:+0100
TZNAME:CET
DTSTART:20261025T010000
END:STANDARD
END:VTIMEZONE
BEGIN:VEVENT
DTSTART;TZID=Europe/Paris:20260125T080000
DTEND;TZID=Europe/Paris:20260125T170000
DTSTAMP:20260422T182336
CREATED:20260125T135034Z
LAST-MODIFIED:20260125T135034Z
UID:10000273-1769328000-1769360400@oise-somme.1000pattes.guide
SUMMARY:Trail du château de Pierrefonds (60)
DESCRIPTION:Prépare tes chaussures de Trail et ton mental de guerrier(e)\, car le Trail du château de Pierrefonds revient pour sa 9ème Edition. Des paysages magnifiques entre bois\, clairières et vues imprenables sur le majestueux Château de Pierrefonds. Un parcours technique\, qui est devenu au fil des éditions une référence incontournable dans les hauts de France. Prêt(e) à relever le défi et à inscrire ton nom parmi les Finishers du Trail du Château de Pierrefonds ? TCP court\, 13 km – 290 D+\, 18 € et TCP long\, 27 km – 600 D+\, 25 €. Inscription sur adeorurn.
URL:https://oise-somme.1000pattes.guide/event/trail-du-chateau-de-pierrefonds-60/
LOCATION:Pierrefonds
CATEGORIES:Trail ou course nature
END:VEVENT
BEGIN:VEVENT
DTSTART;TZID=Europe/Paris:20260125T080000
DTEND;TZID=Europe/Paris:20260125T170000
DTSTAMP:20260422T182336
CREATED:20260125T140325Z
LAST-MODIFIED:20260125T140325Z
UID:10000283-1769328000-1769360400@oise-somme.1000pattes.guide
SUMMARY:Urbantrail d’Amiens (80)
DESCRIPTION:La ville organise une nouvelle édition de son urbantrail non chronométré sur une distance de 10 km à faire en courant ou en marchant. \n\n\nDépart – Arrivée : Place d’arme de la citadelle d’Amiens.\n\n\n. Renseignements au 03.22.46.31.89.
URL:https://oise-somme.1000pattes.guide/event/urbantrail-damiens-80-2/
CATEGORIES:Urban trail
END:VEVENT
BEGIN:VEVENT
DTSTART;TZID=Europe/Paris:20260125T080000
DTEND;TZID=Europe/Paris:20260125T170000
DTSTAMP:20260422T182336
CREATED:20260125T140923Z
LAST-MODIFIED:20260125T140923Z
UID:10000288-1769328000-1769360400@oise-somme.1000pattes.guide
SUMMARY:Semi-marathon de la Coulée Verte à Salouel (80)
DESCRIPTION:Au programme de cette 16ème édition\, un semi-marathon\, label Fia\, sur circuit plat. Challenge de la route 80. Renseignements au 06.21.24.47.36 ou au 06.86.80.39.71. \nDépart rue Jean-Jaurés\, Salouel. \nVous aurez à votre disposition : \n– des consignes pour déposer vos sacs\n– des vestiaires avec douches\n– des toilettes à disposition au niveau des vestiaires et de l’entrée du gymnase\, ainsi qu’au niveau des vestiaires du club de foot (merci au club de foot de Salouel !).\n– des parkings très proches\, stationnement possible sur l’esplanade de Salouel entre la rue Jean Jaurès et la rue Pasteur (au plus proche du départ !!!!) \nAfin de créer encore plus de fluidité lors du départ\, et faire que chacun puisse se caler à son allure le plus tôt possible dans la course \, sans être gêné par des coureurs plus lents placés devant eux\, 4 SAS seront créés.\nCela sera possible\, car notre partenaire de chronométrage vous permettra d’avoir votre temps réel\, et c’est ce temps réel qui comptera pour votre qualification pour les CF (pour ceux qui la cherchent)\nC’est-à-dire le temps calculé entre votre passage au niveau de la ligne de départ\, et la ligne d’arrivée (et non pas entre le coup de feu et le passage de la ligne d’arrivée).\nDonc aucune raison de ne pas vous placer dans le SAS adapté……. on compte sur votre comportement exemplaire! et faire que ce départ soit le plus fluide possible! \n➡️ SAS ELITE : 🏃‍♂️moins d’1h22 🏃‍♀️ moins d’1h40\nsur justificatif officiel (vérifiable sur baseathlé))(temps sur 10 kms ou semi datant depuis moins de 18 mois) \, à adresser à l’adresse semidelacouleeverte@gmail.com\, à envoyer dés votre inscription (pas de dérogation le Jour J) \n➡️➡️SAS 1h30 à 1h45 : présence du meneur d’allure en 1h30  (accès sur votre bonne foi) \n➡️➡️➡️ SAS 1h45 à 2h00 : présence du meneur en 1h45  (accès sur votre bonne foi)
URL:https://oise-somme.1000pattes.guide/event/semi-marathon-de-la-coulee-verte-a-salouel-80/
END:VEVENT
BEGIN:VEVENT
DTSTART;TZID=Europe/Paris:20260125T080000
DTEND;TZID=Europe/Paris:20260125T170000
DTSTAMP:20260422T182336
CREATED:20260125T141847Z
LAST-MODIFIED:20260125T141847Z
UID:10000298-1769328000-1769360400@oise-somme.1000pattes.guide
SUMMARY:La Mareuil’Oise à Mareuil-la-Motte (60)
DESCRIPTION:La Mareuil’Oise comporte 3 épreuves : Trail court\, 7 km\, 150D+\, tarif 7 €\, départ 9h10\, incluant des portions boisées\, chemins en plaine\, quelques passages techniques et des zones en village – Trail\, 12 km\, 200D+\, tarif 12 €\, départ 9h\, incluant des portions boisées\, chemins en plaine\, quelques passages techniques et des zones en village – Marche\, 7km\, 150D+\, tarif 7 €\, départ 9h10 après le trail court\, parcours non chronométré\, ouvert aux marcheurs sportifs ou loisirs\, empruntant une partie du tracé des trails. Inscription sur adeorun.
URL:https://oise-somme.1000pattes.guide/event/la-mareuiloise-a-mareuil-la-motte-60/
LOCATION:Mareuil-la-Motte
END:VEVENT
END:VCALENDAR